BEGIN:VCALENDAR
VERSION:2.0
PRODID:-//Explore Narrabri Region - ECPv6.15.18//NONSGML v1.0//EN
CALSCALE:GREGORIAN
METHOD:PUBLISH
X-ORIGINAL-URL:https://explorenarrabriregion.com.au
X-WR-CALDESC:Events for Explore Narrabri Region
REFRESH-INTERVAL;VALUE=DURATION:PT1H
X-Robots-Tag:noindex
X-PUBLISHED-TTL:PT1H
BEGIN:VTIMEZONE
TZID:Australia/Sydney
BEGIN:STANDARD
TZOFFSETFROM:+1100
TZOFFSETTO:+1000
TZNAME:AEST
DTSTART:20230401T160000
END:STANDARD
BEGIN:DAYLIGHT
TZOFFSETFROM:+1000
TZOFFSETTO:+1100
TZNAME:AEDT
DTSTART:20230930T160000
END:DAYLIGHT
BEGIN:STANDARD
TZOFFSETFROM:+1100
TZOFFSETTO:+1000
TZNAME:AEST
DTSTART:20240406T160000
END:STANDARD
BEGIN:DAYLIGHT
TZOFFSETFROM:+1000
TZOFFSETTO:+1100
TZNAME:AEDT
DTSTART:20241005T160000
END:DAYLIGHT
BEGIN:STANDARD
TZOFFSETFROM:+1100
TZOFFSETTO:+1000
TZNAME:AEST
DTSTART:20250405T160000
END:STANDARD
BEGIN:DAYLIGHT
TZOFFSETFROM:+1000
TZOFFSETTO:+1100
TZNAME:AEDT
DTSTART:20251004T160000
END:DAYLIGHT
BEGIN:STANDARD
TZOFFSETFROM:+1100
TZOFFSETTO:+1000
TZNAME:AEST
DTSTART:20260404T160000
END:STANDARD
BEGIN:DAYLIGHT
TZOFFSETFROM:+1000
TZOFFSETTO:+1100
TZNAME:AEDT
DTSTART:20261003T160000
END:DAYLIGHT
END:VTIMEZONE
BEGIN:VEVENT
DTSTART;TZID=Australia/Sydney:20250726T083000
DTEND;TZID=Australia/Sydney:20250726T120000
DTSTAMP:20260425T001106
CREATED:20250714T020928Z
LAST-MODIFIED:20250714T020928Z
UID:10009176-1753518600-1753531200@explorenarrabriregion.com.au
SUMMARY:Pop Up Op Shop: Winter Essentials
DESCRIPTION:Narrabri Schools Ministry is hosting: POP UP OP SHOP – Winter Essentials. \nFunds raised will support initiatives like the “Living Room” and Chips and Chat Lunchtime Group at the Narrabri High School. It will also keep Schools Ministry Workers employed within our local schools. \nWhen: 18th to 26th July \nTime: 9.00am to 2.00pm Weekdays \n8.30am to 12.00pm Saturday \n  \nWhere: Thrive Church\, 75 Maitland Street\, Narrabri \n 
URL:https://explorenarrabriregion.com.au/event/pop-up-op-shop-winter-essentials/2025-07-26/
LOCATION:Thrive Church\, 75 Maitland street\, Narrabri\, 2390\, Australia
CATEGORIES:Event
ATTACH;FMTTYPE=image/jpeg:https://explorenarrabriregion.com.au/wp-content/uploads/2025/07/OP-SHOP-scaled.jpeg
END:VEVENT
BEGIN:VEVENT
DTSTART;TZID=Australia/Sydney:20250725T090000
DTEND;TZID=Australia/Sydney:20250725T140000
DTSTAMP:20260425T001106
CREATED:20250714T020928Z
LAST-MODIFIED:20250714T020928Z
UID:10009175-1753434000-1753452000@explorenarrabriregion.com.au
SUMMARY:Pop Up Op Shop: Winter Essentials
DESCRIPTION:Narrabri Schools Ministry is hosting: POP UP OP SHOP – Winter Essentials. \nFunds raised will support initiatives like the “Living Room” and Chips and Chat Lunchtime Group at the Narrabri High School. It will also keep Schools Ministry Workers employed within our local schools. \nWhen: 18th to 26th July \nTime: 9.00am to 2.00pm Weekdays \n8.30am to 12.00pm Saturday \n  \nWhere: Thrive Church\, 75 Maitland Street\, Narrabri \n 
URL:https://explorenarrabriregion.com.au/event/pop-up-op-shop-winter-essentials/2025-07-25/
LOCATION:Thrive Church\, 75 Maitland street\, Narrabri\, 2390\, Australia
CATEGORIES:Event
ATTACH;FMTTYPE=image/jpeg:https://explorenarrabriregion.com.au/wp-content/uploads/2025/07/OP-SHOP-scaled.jpeg
END:VEVENT
BEGIN:VEVENT
DTSTART;TZID=Australia/Sydney:20250724T090000
DTEND;TZID=Australia/Sydney:20250724T140000
DTSTAMP:20260425T001106
CREATED:20250714T020928Z
LAST-MODIFIED:20250714T020928Z
UID:10009174-1753347600-1753365600@explorenarrabriregion.com.au
SUMMARY:Pop Up Op Shop: Winter Essentials
DESCRIPTION:Narrabri Schools Ministry is hosting: POP UP OP SHOP – Winter Essentials. \nFunds raised will support initiatives like the “Living Room” and Chips and Chat Lunchtime Group at the Narrabri High School. It will also keep Schools Ministry Workers employed within our local schools. \nWhen: 18th to 26th July \nTime: 9.00am to 2.00pm Weekdays \n8.30am to 12.00pm Saturday \n  \nWhere: Thrive Church\, 75 Maitland Street\, Narrabri \n 
URL:https://explorenarrabriregion.com.au/event/pop-up-op-shop-winter-essentials/2025-07-24/
LOCATION:Thrive Church\, 75 Maitland street\, Narrabri\, 2390\, Australia
CATEGORIES:Event
ATTACH;FMTTYPE=image/jpeg:https://explorenarrabriregion.com.au/wp-content/uploads/2025/07/OP-SHOP-scaled.jpeg
END:VEVENT
BEGIN:VEVENT
DTSTART;TZID=Australia/Sydney:20250723T090000
DTEND;TZID=Australia/Sydney:20250723T140000
DTSTAMP:20260425T001106
CREATED:20250714T020928Z
LAST-MODIFIED:20250714T020928Z
UID:10009173-1753261200-1753279200@explorenarrabriregion.com.au
SUMMARY:Pop Up Op Shop: Winter Essentials
DESCRIPTION:Narrabri Schools Ministry is hosting: POP UP OP SHOP – Winter Essentials. \nFunds raised will support initiatives like the “Living Room” and Chips and Chat Lunchtime Group at the Narrabri High School. It will also keep Schools Ministry Workers employed within our local schools. \nWhen: 18th to 26th July \nTime: 9.00am to 2.00pm Weekdays \n8.30am to 12.00pm Saturday \n  \nWhere: Thrive Church\, 75 Maitland Street\, Narrabri \n 
URL:https://explorenarrabriregion.com.au/event/pop-up-op-shop-winter-essentials/2025-07-23/
LOCATION:Thrive Church\, 75 Maitland street\, Narrabri\, 2390\, Australia
CATEGORIES:Event
ATTACH;FMTTYPE=image/jpeg:https://explorenarrabriregion.com.au/wp-content/uploads/2025/07/OP-SHOP-scaled.jpeg
END:VEVENT
BEGIN:VEVENT
DTSTART;TZID=Australia/Sydney:20250722T103000
DTEND;TZID=Australia/Sydney:20250722T120000
DTSTAMP:20260425T001106
CREATED:20250714T052134Z
LAST-MODIFIED:20250714T052134Z
UID:10009168-1753180200-1753185600@explorenarrabriregion.com.au
SUMMARY:Can Assist Narrabri Fundraiser - High Tea
DESCRIPTION:Gather your friends and join us for a special morning of tea\, treats and community spirit! \nEvery dollar raised will help Can Assist Narrabri provide vital financial support to local cancer patients and their families — from travel and accommodation to medication and medical expenses. \nEnjoy delicious bites\, warm conversation\, and the chance to make a real difference close to home. \nWhen: Tuesday\, 22nd JulyTime: 10:30amWhere: Thrive Church\, 75 Maitland Street\, Narrabri \nAll welcome! Donations go directly to supporting those in need in our Shire. \nRSVP By 20th July
URL:https://explorenarrabriregion.com.au/event/can-assist-narrabri-fundraiser-high-tea/
LOCATION:Thrive Church\, 75 Maitland street\, Narrabri\, 2390\, Australia
CATEGORIES:Event
ATTACH;FMTTYPE=image/jpeg:https://explorenarrabriregion.com.au/wp-content/uploads/2025/07/shutterstock_1092576797-scaled.jpg
END:VEVENT
BEGIN:VEVENT
DTSTART;TZID=Australia/Sydney:20250722T090000
DTEND;TZID=Australia/Sydney:20250722T140000
DTSTAMP:20260425T001106
CREATED:20250714T020928Z
LAST-MODIFIED:20250714T020928Z
UID:10009172-1753174800-1753192800@explorenarrabriregion.com.au
SUMMARY:Pop Up Op Shop: Winter Essentials
DESCRIPTION:Narrabri Schools Ministry is hosting: POP UP OP SHOP – Winter Essentials. \nFunds raised will support initiatives like the “Living Room” and Chips and Chat Lunchtime Group at the Narrabri High School. It will also keep Schools Ministry Workers employed within our local schools. \nWhen: 18th to 26th July \nTime: 9.00am to 2.00pm Weekdays \n8.30am to 12.00pm Saturday \n  \nWhere: Thrive Church\, 75 Maitland Street\, Narrabri \n 
URL:https://explorenarrabriregion.com.au/event/pop-up-op-shop-winter-essentials/2025-07-22/
LOCATION:Thrive Church\, 75 Maitland street\, Narrabri\, 2390\, Australia
CATEGORIES:Event
ATTACH;FMTTYPE=image/jpeg:https://explorenarrabriregion.com.au/wp-content/uploads/2025/07/OP-SHOP-scaled.jpeg
END:VEVENT
BEGIN:VEVENT
DTSTART;TZID=Australia/Sydney:20250721T090000
DTEND;TZID=Australia/Sydney:20250721T140000
DTSTAMP:20260425T001106
CREATED:20250714T020928Z
LAST-MODIFIED:20250714T020928Z
UID:10009171-1753088400-1753106400@explorenarrabriregion.com.au
SUMMARY:Pop Up Op Shop: Winter Essentials
DESCRIPTION:Narrabri Schools Ministry is hosting: POP UP OP SHOP – Winter Essentials. \nFunds raised will support initiatives like the “Living Room” and Chips and Chat Lunchtime Group at the Narrabri High School. It will also keep Schools Ministry Workers employed within our local schools. \nWhen: 18th to 26th July \nTime: 9.00am to 2.00pm Weekdays \n8.30am to 12.00pm Saturday \n  \nWhere: Thrive Church\, 75 Maitland Street\, Narrabri \n 
URL:https://explorenarrabriregion.com.au/event/pop-up-op-shop-winter-essentials/2025-07-21/
LOCATION:Thrive Church\, 75 Maitland street\, Narrabri\, 2390\, Australia
CATEGORIES:Event
ATTACH;FMTTYPE=image/jpeg:https://explorenarrabriregion.com.au/wp-content/uploads/2025/07/OP-SHOP-scaled.jpeg
END:VEVENT
BEGIN:VEVENT
DTSTART;TZID=Australia/Sydney:20250719T083000
DTEND;TZID=Australia/Sydney:20250719T120000
DTSTAMP:20260425T001106
CREATED:20250714T020928Z
LAST-MODIFIED:20250714T020928Z
UID:10009170-1752913800-1752926400@explorenarrabriregion.com.au
SUMMARY:Pop Up Op Shop: Winter Essentials
DESCRIPTION:Narrabri Schools Ministry is hosting: POP UP OP SHOP – Winter Essentials. \nFunds raised will support initiatives like the “Living Room” and Chips and Chat Lunchtime Group at the Narrabri High School. It will also keep Schools Ministry Workers employed within our local schools. \nWhen: 18th to 26th July \nTime: 9.00am to 2.00pm Weekdays \n8.30am to 12.00pm Saturday \n  \nWhere: Thrive Church\, 75 Maitland Street\, Narrabri \n 
URL:https://explorenarrabriregion.com.au/event/pop-up-op-shop-winter-essentials/2025-07-19/
LOCATION:Thrive Church\, 75 Maitland street\, Narrabri\, 2390\, Australia
CATEGORIES:Event
ATTACH;FMTTYPE=image/jpeg:https://explorenarrabriregion.com.au/wp-content/uploads/2025/07/OP-SHOP-scaled.jpeg
END:VEVENT
BEGIN:VEVENT
DTSTART;TZID=Australia/Sydney:20250718T090000
DTEND;TZID=Australia/Sydney:20250718T140000
DTSTAMP:20260425T001106
CREATED:20250714T020928Z
LAST-MODIFIED:20250714T020928Z
UID:10009169-1752829200-1752847200@explorenarrabriregion.com.au
SUMMARY:Pop Up Op Shop: Winter Essentials
DESCRIPTION:Narrabri Schools Ministry is hosting: POP UP OP SHOP – Winter Essentials. \nFunds raised will support initiatives like the “Living Room” and Chips and Chat Lunchtime Group at the Narrabri High School. It will also keep Schools Ministry Workers employed within our local schools. \nWhen: 18th to 26th July \nTime: 9.00am to 2.00pm Weekdays \n8.30am to 12.00pm Saturday \n  \nWhere: Thrive Church\, 75 Maitland Street\, Narrabri \n 
URL:https://explorenarrabriregion.com.au/event/pop-up-op-shop-winter-essentials/2025-07-18/
LOCATION:Thrive Church\, 75 Maitland street\, Narrabri\, 2390\, Australia
CATEGORIES:Event
ATTACH;FMTTYPE=image/jpeg:https://explorenarrabriregion.com.au/wp-content/uploads/2025/07/OP-SHOP-scaled.jpeg
END:VEVENT
BEGIN:VEVENT
DTSTART;TZID=Australia/Sydney:20250324T190000
DTEND;TZID=Australia/Sydney:20250324T201500
DTSTAMP:20260425T001106
CREATED:20250205T235010Z
LAST-MODIFIED:20250205T235010Z
UID:10006234-1742842800-1742847300@explorenarrabriregion.com.au
SUMMARY:Perfectly Imperfect
DESCRIPTION:Julee-anne Bell starred on The Voice Australia in 2021 and her video with Guy Sebastian remains the highest viewed video in the history of the show. \nTogether with Melissa Buchholz\, pianist\, Julee-anne presents a show filled with great songs and stories about life in general and also as a blind person. \nThese two artists are inspirational in their outlook on life and as exquisite musicians. \nFor pricing and tickets CLICK HERE \n  \n  \n 
URL:https://explorenarrabriregion.com.au/event/perfectly-imperfect/
LOCATION:Thrive Church\, 75 Maitland street\, Narrabri\, 2390\, Australia
CATEGORIES:Event
ATTACH;FMTTYPE=image/jpeg:https://explorenarrabriregion.com.au/wp-content/uploads/2025/02/Perfectly-Imperfect.jpg
END:VEVENT
BEGIN:VEVENT
DTSTART;TZID=Australia/Sydney:20240110T100000
DTEND;TZID=Australia/Sydney:20240110T153000
DTSTAMP:20260425T001106
CREATED:20231215T014234Z
LAST-MODIFIED:20231215T014234Z
UID:10002473-1704880800-1704900600@explorenarrabriregion.com.au
SUMMARY:Narrabri Disco Party
DESCRIPTION:Get ready to party! \nThe NDCAS are throwing a free School Holiday Disco for children on the 10th January 2024 at the Thrive Church with entry via Tibbereena St. \nAges 0 – 6 years 10.00am – 11.30am. \nAges 7 – 12 years 1.30pm – 3.30pm. \nFamilies with children in both age groups are welcome to choose which session they would like to attend all together. \nAdult supervision is compulsory.
URL:https://explorenarrabriregion.com.au/event/narrabri-disco-party/
LOCATION:Thrive Church\, 75 Maitland street\, Narrabri\, 2390\, Australia
CATEGORIES:Kids Activities
ATTACH;FMTTYPE=image/jpeg:https://explorenarrabriregion.com.au/wp-content/uploads/2023/12/Narrabri-Disco.jpg
END:VEVENT
END:VCALENDAR