BEGIN:VCALENDAR
VERSION:2.0
PRODID:-//Explore Narrabri Region - ECPv6.15.18//NONSGML v1.0//EN
CALSCALE:GREGORIAN
METHOD:PUBLISH
X-WR-CALNAME:Explore Narrabri Region
X-ORIGINAL-URL:https://explorenarrabriregion.com.au
X-WR-CALDESC:Events for Explore Narrabri Region
REFRESH-INTERVAL;VALUE=DURATION:PT1H
X-Robots-Tag:noindex
X-PUBLISHED-TTL:PT1H
BEGIN:VTIMEZONE
TZID:Australia/Sydney
BEGIN:STANDARD
TZOFFSETFROM:+1100
TZOFFSETTO:+1000
TZNAME:AEST
DTSTART:20230401T160000
END:STANDARD
BEGIN:DAYLIGHT
TZOFFSETFROM:+1000
TZOFFSETTO:+1100
TZNAME:AEDT
DTSTART:20230930T160000
END:DAYLIGHT
BEGIN:STANDARD
TZOFFSETFROM:+1100
TZOFFSETTO:+1000
TZNAME:AEST
DTSTART:20240406T160000
END:STANDARD
BEGIN:DAYLIGHT
TZOFFSETFROM:+1000
TZOFFSETTO:+1100
TZNAME:AEDT
DTSTART:20241005T160000
END:DAYLIGHT
BEGIN:STANDARD
TZOFFSETFROM:+1100
TZOFFSETTO:+1000
TZNAME:AEST
DTSTART:20250405T160000
END:STANDARD
BEGIN:DAYLIGHT
TZOFFSETFROM:+1000
TZOFFSETTO:+1100
TZNAME:AEDT
DTSTART:20251004T160000
END:DAYLIGHT
END:VTIMEZONE
BEGIN:VEVENT
DTSTART;TZID=Australia/Sydney:20240831T100000
DTEND;TZID=Australia/Sydney:20240831T160000
DTSTAMP:20260425T220025
CREATED:20240815T235044Z
LAST-MODIFIED:20240815T235044Z
UID:10004519-1725098400-1725120000@explorenarrabriregion.com.au
SUMMARY:RFS OPEN DAY
DESCRIPTION:RFS OPEN DAY – – Saturday 31st August 2024 at The Narrabri RFS\, Old Newell Hwy\, Narrabri – 10am to 4pm.New members welcome!Come and see what it is all about!! There will be a jumping castle for the kids\, sausage sizzle. Popcorn\, fairy floss and giveaways…There will also be members in hand to help with fire season preparation\, creating a bush fire survival plan. Don’t miss this opportunity to connect with your local brigade and access essential resources\, and ensure that you’re well prepared for the upcoming bush fire season!Juniors Raffle will also be drawn!Everyone welcome\, further information can be obtained from Tim\, Deputy Captain on 0409 969 864
URL:https://explorenarrabriregion.com.au/event/rfs-open-day/
LOCATION:The Narrabri RFS\, Old Newell Hwy\, Narrabri\, NSW\, 2390
CATEGORIES:Event
ATTACH;FMTTYPE=image/jpeg:https://explorenarrabriregion.com.au/wp-content/uploads/2024/08/FIRE-OPEN-DAY.jpg
END:VEVENT
END:VCALENDAR