BEGIN:VCALENDAR
VERSION:2.0
PRODID:-//Explore Narrabri Region - ECPv6.15.18//NONSGML v1.0//EN
CALSCALE:GREGORIAN
METHOD:PUBLISH
X-WR-CALNAME:Explore Narrabri Region
X-ORIGINAL-URL:https://explorenarrabriregion.com.au
X-WR-CALDESC:Events for Explore Narrabri Region
REFRESH-INTERVAL;VALUE=DURATION:PT1H
X-Robots-Tag:noindex
X-PUBLISHED-TTL:PT1H
BEGIN:VTIMEZONE
TZID:Australia/Sydney
BEGIN:STANDARD
TZOFFSETFROM:+1100
TZOFFSETTO:+1000
TZNAME:AEST
DTSTART:20240406T160000
END:STANDARD
BEGIN:DAYLIGHT
TZOFFSETFROM:+1000
TZOFFSETTO:+1100
TZNAME:AEDT
DTSTART:20241005T160000
END:DAYLIGHT
BEGIN:STANDARD
TZOFFSETFROM:+1100
TZOFFSETTO:+1000
TZNAME:AEST
DTSTART:20250405T160000
END:STANDARD
BEGIN:DAYLIGHT
TZOFFSETFROM:+1000
TZOFFSETTO:+1100
TZNAME:AEDT
DTSTART:20251004T160000
END:DAYLIGHT
BEGIN:STANDARD
TZOFFSETFROM:+1100
TZOFFSETTO:+1000
TZNAME:AEST
DTSTART:20260404T160000
END:STANDARD
BEGIN:DAYLIGHT
TZOFFSETFROM:+1000
TZOFFSETTO:+1100
TZNAME:AEDT
DTSTART:20261003T160000
END:DAYLIGHT
END:VTIMEZONE
BEGIN:VEVENT
DTSTART;TZID=Australia/Sydney:20250717T100000
DTEND;TZID=Australia/Sydney:20250717T150000
DTSTAMP:20260425T000548
CREATED:20250714T235451Z
LAST-MODIFIED:20250714T235451Z
UID:10009177-1752746400-1752764400@explorenarrabriregion.com.au
SUMMARY:Plants for Purpose
DESCRIPTION:Join Dave Carr from Stringybark Ecological\, who will teach you how to select the best local species for your purpose (e.g. erosion control\, shelter belt). \nMorning tea and lunch will be provided\, and attendees can choose a FREE plant with more available for sale. \nWhen: Thursday\, 17 July \nTime: 10.00am – 3.00pm \nWhere: The Living Classroom\, 1 Killarney Gap Rd\, Bingara NSW 2404 \nCost: $10 for NSLA members\, $20 for non-members \nBook here. 
URL:https://explorenarrabriregion.com.au/event/plants-for-purpose/
LOCATION:The Living Classroom\, 1 Killarney Gap Rd\, Bingara\, NSW\, 2404\, Australia
CATEGORIES:Event
ATTACH;FMTTYPE=image/jpeg:https://explorenarrabriregion.com.au/wp-content/uploads/2025/07/Plants-for-Purpose.jpg
ORGANIZER;CN="Northern Slopes Landcare Association Incorporated":MAILTO:coordinator@nsla.net.au
END:VEVENT
END:VCALENDAR