BEGIN:VCALENDAR
VERSION:2.0
PRODID:-//Explore Narrabri Region - ECPv6.15.18//NONSGML v1.0//EN
CALSCALE:GREGORIAN
METHOD:PUBLISH
X-ORIGINAL-URL:https://explorenarrabriregion.com.au
X-WR-CALDESC:Events for Explore Narrabri Region
REFRESH-INTERVAL;VALUE=DURATION:PT1H
X-Robots-Tag:noindex
X-PUBLISHED-TTL:PT1H
BEGIN:VTIMEZONE
TZID:Australia/Sydney
BEGIN:STANDARD
TZOFFSETFROM:+1100
TZOFFSETTO:+1000
TZNAME:AEST
DTSTART:20230401T160000
END:STANDARD
BEGIN:DAYLIGHT
TZOFFSETFROM:+1000
TZOFFSETTO:+1100
TZNAME:AEDT
DTSTART:20230930T160000
END:DAYLIGHT
BEGIN:STANDARD
TZOFFSETFROM:+1100
TZOFFSETTO:+1000
TZNAME:AEST
DTSTART:20240406T160000
END:STANDARD
BEGIN:DAYLIGHT
TZOFFSETFROM:+1000
TZOFFSETTO:+1100
TZNAME:AEDT
DTSTART:20241005T160000
END:DAYLIGHT
BEGIN:STANDARD
TZOFFSETFROM:+1100
TZOFFSETTO:+1000
TZNAME:AEST
DTSTART:20250405T160000
END:STANDARD
BEGIN:DAYLIGHT
TZOFFSETFROM:+1000
TZOFFSETTO:+1100
TZNAME:AEDT
DTSTART:20251004T160000
END:DAYLIGHT
BEGIN:STANDARD
TZOFFSETFROM:+1100
TZOFFSETTO:+1000
TZNAME:AEST
DTSTART:20260404T160000
END:STANDARD
BEGIN:DAYLIGHT
TZOFFSETFROM:+1000
TZOFFSETTO:+1100
TZNAME:AEDT
DTSTART:20261003T160000
END:DAYLIGHT
END:VTIMEZONE
BEGIN:VEVENT
DTSTART;TZID=Australia/Sydney:20250124T093000
DTEND;TZID=Australia/Sydney:20250124T110000
DTSTAMP:20260425T224313
CREATED:20250102T012311Z
LAST-MODIFIED:20250102T012311Z
UID:10004951-1737711000-1737716400@explorenarrabriregion.com.au
SUMMARY:Kids School Holiday Fun - Pilliga
DESCRIPTION:Get the kids outside for this FREE event!
URL:https://explorenarrabriregion.com.au/event/kids-school-holiday-fun-pilliga/
LOCATION:Pilliga Playground\, Pilliga\, NSW\, Australia
CATEGORIES:Kids Activities
ATTACH;FMTTYPE=image/jpeg:https://explorenarrabriregion.com.au/wp-content/uploads/2025/01/Sora-Community-events.jpg
END:VEVENT
BEGIN:VEVENT
DTSTART;TZID=Australia/Sydney:20241210T160000
DTEND;TZID=Australia/Sydney:20241210T170000
DTSTAMP:20260425T224313
CREATED:20240628T020708Z
LAST-MODIFIED:20240628T020708Z
UID:10004417-1733846400-1733850000@explorenarrabriregion.com.au
SUMMARY:Afternoon Activity - Pilliga Playground
DESCRIPTION:Head down to Pilliga Playground\, Pilliga for an afternoon of fun between 4.00pm – 5.00pm. \nThere will be a variety of games on offer including: \n\nBall games\nBoard games\nUNO\nFrisbie\nPickle ball\nKubb\nBadminton\n\nFor more information contact Shannon 0448420825
URL:https://explorenarrabriregion.com.au/event/afternoon-activity-pilliga-playground-3/
LOCATION:Pilliga Playground\, Pilliga\, NSW\, Australia
CATEGORIES:Kids Activities
ATTACH;FMTTYPE=image/jpeg:https://explorenarrabriregion.com.au/wp-content/uploads/2024/06/ASA-Pilliga-Dec.jpg
END:VEVENT
BEGIN:VEVENT
DTSTART;TZID=Australia/Sydney:20240910T160000
DTEND;TZID=Australia/Sydney:20240910T170000
DTSTAMP:20260425T224313
CREATED:20240628T020512Z
LAST-MODIFIED:20240628T020512Z
UID:10004416-1725984000-1725987600@explorenarrabriregion.com.au
SUMMARY:Afternoon Activity - Pilliga Playground
DESCRIPTION:Head down to Pilliga Playground\, Pilliga for an afternoon of fun between 4.00pm – 5.00pm. \nThere will be a variety of games on offer including: \n\nBall games\nBoard games\nUNO\nFrisbie\nPickle ball\nKubb\nBadminton\n\nFor more information contact Shannon 0448420825
URL:https://explorenarrabriregion.com.au/event/afternoon-activity-pilliga-playground-2/
LOCATION:Pilliga Playground\, Pilliga\, NSW\, Australia
CATEGORIES:Kids Activities
ATTACH;FMTTYPE=image/jpeg:https://explorenarrabriregion.com.au/wp-content/uploads/2024/06/ASA-Pilliga-Sep.jpg
END:VEVENT
END:VCALENDAR