BEGIN:VCALENDAR
VERSION:2.0
PRODID:-//Explore Narrabri Region - ECPv6.15.18//NONSGML v1.0//EN
CALSCALE:GREGORIAN
METHOD:PUBLISH
X-ORIGINAL-URL:https://explorenarrabriregion.com.au
X-WR-CALDESC:Events for Explore Narrabri Region
REFRESH-INTERVAL;VALUE=DURATION:PT1H
X-Robots-Tag:noindex
X-PUBLISHED-TTL:PT1H
BEGIN:VTIMEZONE
TZID:Australia/Sydney
BEGIN:STANDARD
TZOFFSETFROM:+1100
TZOFFSETTO:+1000
TZNAME:AEST
DTSTART:20220402T160000
END:STANDARD
BEGIN:DAYLIGHT
TZOFFSETFROM:+1000
TZOFFSETTO:+1100
TZNAME:AEDT
DTSTART:20221001T160000
END:DAYLIGHT
BEGIN:STANDARD
TZOFFSETFROM:+1100
TZOFFSETTO:+1000
TZNAME:AEST
DTSTART:20230401T160000
END:STANDARD
BEGIN:DAYLIGHT
TZOFFSETFROM:+1000
TZOFFSETTO:+1100
TZNAME:AEDT
DTSTART:20230930T160000
END:DAYLIGHT
BEGIN:STANDARD
TZOFFSETFROM:+1100
TZOFFSETTO:+1000
TZNAME:AEST
DTSTART:20240406T160000
END:STANDARD
BEGIN:DAYLIGHT
TZOFFSETFROM:+1000
TZOFFSETTO:+1100
TZNAME:AEDT
DTSTART:20241005T160000
END:DAYLIGHT
BEGIN:STANDARD
TZOFFSETFROM:+1100
TZOFFSETTO:+1000
TZNAME:AEST
DTSTART:20250405T160000
END:STANDARD
BEGIN:DAYLIGHT
TZOFFSETFROM:+1000
TZOFFSETTO:+1100
TZNAME:AEDT
DTSTART:20251004T160000
END:DAYLIGHT
END:VTIMEZONE
BEGIN:VEVENT
DTSTART;TZID=Australia/Sydney:20240117T080000
DTEND;TZID=Australia/Sydney:20240117T170000
DTSTAMP:20260422T122023
CREATED:20231219T213301Z
LAST-MODIFIED:20231219T213301Z
UID:10002487-1705478400-1705510800@explorenarrabriregion.com.au
SUMMARY:Lost Mummy Escape Room
DESCRIPTION:Get ready for an epic adventure. \nGet a team of your friends together to investigate an Ancient Escape room. \nThis is a special day out just for Year 7 class of 2024 as an introduction to the NDCAS Youth Centre. \nRegister you team before 17th January 2024 by heading to the Narrabri & District Community Aid Service Inc page on Facebook and click on the link provided. \nFor more information phone NDCAS on 67924900. \n 
URL:https://explorenarrabriregion.com.au/event/lost-mummy-escape-room/
LOCATION:Narrabri and District Community Aid Service Inc. (NDCAS)\, 30 Maitland Street\, Narrabri\, NSW\, 2390\, Australia
CATEGORIES:Kids Activities
ATTACH;FMTTYPE=image/jpeg:https://explorenarrabriregion.com.au/wp-content/uploads/2023/12/NDCAS-escape-room.jpg
END:VEVENT
BEGIN:VEVENT
DTSTART;TZID=Australia/Sydney:20230119T110000
DTEND;TZID=Australia/Sydney:20230119T150000
DTSTAMP:20260422T122023
CREATED:20230116T012309Z
LAST-MODIFIED:20230116T012309Z
UID:10001405-1674126000-1674140400@explorenarrabriregion.com.au
SUMMARY:NDCAS Holiday Youth Activity
DESCRIPTION:SCHOOL HOLIDAY ACTIVITY FOR YOUTH\nEncourage your child to grab some friends and come and enjoy our free pizza and ice cream day at the Youth Centre. We will be open between 11am and 3pm. Pizza will be served at approximately 12.30pm and there will be lots of games and activities available on the day. No need to book.\n\n\nThe NDCAS Youth Centre provides supervised events for all high school aged children. We aim to create a fun and safe place for Youth to go during school holidays.
URL:https://explorenarrabriregion.com.au/event/ndcas-holiday-youth-activity/
LOCATION:Narrabri and District Community Aid Service Inc. (NDCAS)\, 30 Maitland Street\, Narrabri\, NSW\, 2390\, Australia
ATTACH;FMTTYPE=image/jpeg:https://explorenarrabriregion.com.au/wp-content/uploads/2023/01/NDCAS-Pizza.jpg
END:VEVENT
END:VCALENDAR