BEGIN:VCALENDAR
VERSION:2.0
PRODID:-//Explore Narrabri Region - ECPv6.15.18//NONSGML v1.0//EN
CALSCALE:GREGORIAN
METHOD:PUBLISH
X-WR-CALNAME:Explore Narrabri Region
X-ORIGINAL-URL:https://explorenarrabriregion.com.au
X-WR-CALDESC:Events for Explore Narrabri Region
REFRESH-INTERVAL;VALUE=DURATION:PT1H
X-Robots-Tag:noindex
X-PUBLISHED-TTL:PT1H
BEGIN:VTIMEZONE
TZID:Australia/Sydney
BEGIN:STANDARD
TZOFFSETFROM:+1100
TZOFFSETTO:+1000
TZNAME:AEST
DTSTART:20220402T160000
END:STANDARD
BEGIN:DAYLIGHT
TZOFFSETFROM:+1000
TZOFFSETTO:+1100
TZNAME:AEDT
DTSTART:20221001T160000
END:DAYLIGHT
BEGIN:STANDARD
TZOFFSETFROM:+1100
TZOFFSETTO:+1000
TZNAME:AEST
DTSTART:20230401T160000
END:STANDARD
BEGIN:DAYLIGHT
TZOFFSETFROM:+1000
TZOFFSETTO:+1100
TZNAME:AEDT
DTSTART:20230930T160000
END:DAYLIGHT
BEGIN:STANDARD
TZOFFSETFROM:+1100
TZOFFSETTO:+1000
TZNAME:AEST
DTSTART:20240406T160000
END:STANDARD
BEGIN:DAYLIGHT
TZOFFSETFROM:+1000
TZOFFSETTO:+1100
TZNAME:AEDT
DTSTART:20241005T160000
END:DAYLIGHT
BEGIN:STANDARD
TZOFFSETFROM:+1100
TZOFFSETTO:+1000
TZNAME:AEST
DTSTART:20250405T160000
END:STANDARD
BEGIN:DAYLIGHT
TZOFFSETFROM:+1000
TZOFFSETTO:+1100
TZNAME:AEDT
DTSTART:20251004T160000
END:DAYLIGHT
END:VTIMEZONE
BEGIN:VEVENT
DTSTART;TZID=Australia/Sydney:20240120T110000
DTEND;TZID=Australia/Sydney:20240120T120000
DTSTAMP:20260424T040726
CREATED:20231215T040651Z
LAST-MODIFIED:20231215T040651Z
UID:10002486-1705748400-1705752000@explorenarrabriregion.com.au
SUMMARY:Ninja Warrior School Holiday Classes
DESCRIPTION:Come enjoy some fun obstacles\n\n\nFrom monkey bars to swinging to climbing the warped wall school holiday classes below $20pp times and dates here\n\nDecember:\n\nWednesday 20th December 11am-12pm available\n\n\nFriday 22nd December 11am-12pm available\n\n\n\nJanuary:\nWednesday 3rd 11am-12pm available\n\n\nThursday 11th 11am-12pm available\n\n\nSaturday 13th 11am-12 pm available\n\n\nMonday 15th 11am-12pm available\n\n\nWednesday 17th 11am-12pm available\n\n\nSaturday 20th 11am-12pm available\n\n\n\nThese have limited spaces don’t miss out and book in now ages 6+
URL:https://explorenarrabriregion.com.au/event/ninja-warrior-school-holiday-classes/2024-01-20/
LOCATION:Boggabri\, Narrabri\, Australia
CATEGORIES:Kids Activities
ATTACH;FMTTYPE=image/jpeg:https://explorenarrabriregion.com.au/wp-content/uploads/2023/12/ninja-warrior-boggabri.jpg
END:VEVENT
BEGIN:VEVENT
DTSTART;TZID=Australia/Sydney:20240117T110000
DTEND;TZID=Australia/Sydney:20240117T120000
DTSTAMP:20260424T040726
CREATED:20231215T040651Z
LAST-MODIFIED:20231215T040651Z
UID:10002485-1705489200-1705492800@explorenarrabriregion.com.au
SUMMARY:Ninja Warrior School Holiday Classes
DESCRIPTION:Come enjoy some fun obstacles\n\n\nFrom monkey bars to swinging to climbing the warped wall school holiday classes below $20pp times and dates here\n\nDecember:\n\nWednesday 20th December 11am-12pm available\n\n\nFriday 22nd December 11am-12pm available\n\n\n\nJanuary:\nWednesday 3rd 11am-12pm available\n\n\nThursday 11th 11am-12pm available\n\n\nSaturday 13th 11am-12 pm available\n\n\nMonday 15th 11am-12pm available\n\n\nWednesday 17th 11am-12pm available\n\n\nSaturday 20th 11am-12pm available\n\n\n\nThese have limited spaces don’t miss out and book in now ages 6+
URL:https://explorenarrabriregion.com.au/event/ninja-warrior-school-holiday-classes/2024-01-17/
LOCATION:Boggabri\, Narrabri\, Australia
CATEGORIES:Kids Activities
ATTACH;FMTTYPE=image/jpeg:https://explorenarrabriregion.com.au/wp-content/uploads/2023/12/ninja-warrior-boggabri.jpg
END:VEVENT
BEGIN:VEVENT
DTSTART;TZID=Australia/Sydney:20240115T110000
DTEND;TZID=Australia/Sydney:20240115T120000
DTSTAMP:20260424T040726
CREATED:20231215T040651Z
LAST-MODIFIED:20231215T040651Z
UID:10002484-1705316400-1705320000@explorenarrabriregion.com.au
SUMMARY:Ninja Warrior School Holiday Classes
DESCRIPTION:Come enjoy some fun obstacles\n\n\nFrom monkey bars to swinging to climbing the warped wall school holiday classes below $20pp times and dates here\n\nDecember:\n\nWednesday 20th December 11am-12pm available\n\n\nFriday 22nd December 11am-12pm available\n\n\n\nJanuary:\nWednesday 3rd 11am-12pm available\n\n\nThursday 11th 11am-12pm available\n\n\nSaturday 13th 11am-12 pm available\n\n\nMonday 15th 11am-12pm available\n\n\nWednesday 17th 11am-12pm available\n\n\nSaturday 20th 11am-12pm available\n\n\n\nThese have limited spaces don’t miss out and book in now ages 6+
URL:https://explorenarrabriregion.com.au/event/ninja-warrior-school-holiday-classes/2024-01-15/
LOCATION:Boggabri\, Narrabri\, Australia
CATEGORIES:Kids Activities
ATTACH;FMTTYPE=image/jpeg:https://explorenarrabriregion.com.au/wp-content/uploads/2023/12/ninja-warrior-boggabri.jpg
END:VEVENT
BEGIN:VEVENT
DTSTART;TZID=Australia/Sydney:20240113T110000
DTEND;TZID=Australia/Sydney:20240113T120000
DTSTAMP:20260424T040726
CREATED:20231215T040651Z
LAST-MODIFIED:20231215T040651Z
UID:10002483-1705143600-1705147200@explorenarrabriregion.com.au
SUMMARY:Ninja Warrior School Holiday Classes
DESCRIPTION:Come enjoy some fun obstacles\n\n\nFrom monkey bars to swinging to climbing the warped wall school holiday classes below $20pp times and dates here\n\nDecember:\n\nWednesday 20th December 11am-12pm available\n\n\nFriday 22nd December 11am-12pm available\n\n\n\nJanuary:\nWednesday 3rd 11am-12pm available\n\n\nThursday 11th 11am-12pm available\n\n\nSaturday 13th 11am-12 pm available\n\n\nMonday 15th 11am-12pm available\n\n\nWednesday 17th 11am-12pm available\n\n\nSaturday 20th 11am-12pm available\n\n\n\nThese have limited spaces don’t miss out and book in now ages 6+
URL:https://explorenarrabriregion.com.au/event/ninja-warrior-school-holiday-classes/2024-01-13/
LOCATION:Boggabri\, Narrabri\, Australia
CATEGORIES:Kids Activities
ATTACH;FMTTYPE=image/jpeg:https://explorenarrabriregion.com.au/wp-content/uploads/2023/12/ninja-warrior-boggabri.jpg
END:VEVENT
BEGIN:VEVENT
DTSTART;TZID=Australia/Sydney:20240111T110000
DTEND;TZID=Australia/Sydney:20240111T120000
DTSTAMP:20260424T040726
CREATED:20231215T040651Z
LAST-MODIFIED:20231215T040651Z
UID:10002482-1704970800-1704974400@explorenarrabriregion.com.au
SUMMARY:Ninja Warrior School Holiday Classes
DESCRIPTION:Come enjoy some fun obstacles\n\n\nFrom monkey bars to swinging to climbing the warped wall school holiday classes below $20pp times and dates here\n\nDecember:\n\nWednesday 20th December 11am-12pm available\n\n\nFriday 22nd December 11am-12pm available\n\n\n\nJanuary:\nWednesday 3rd 11am-12pm available\n\n\nThursday 11th 11am-12pm available\n\n\nSaturday 13th 11am-12 pm available\n\n\nMonday 15th 11am-12pm available\n\n\nWednesday 17th 11am-12pm available\n\n\nSaturday 20th 11am-12pm available\n\n\n\nThese have limited spaces don’t miss out and book in now ages 6+
URL:https://explorenarrabriregion.com.au/event/ninja-warrior-school-holiday-classes/2024-01-11/
LOCATION:Boggabri\, Narrabri\, Australia
CATEGORIES:Kids Activities
ATTACH;FMTTYPE=image/jpeg:https://explorenarrabriregion.com.au/wp-content/uploads/2023/12/ninja-warrior-boggabri.jpg
END:VEVENT
BEGIN:VEVENT
DTSTART;TZID=Australia/Sydney:20240103T110000
DTEND;TZID=Australia/Sydney:20240103T120000
DTSTAMP:20260424T040726
CREATED:20231215T040651Z
LAST-MODIFIED:20231215T040651Z
UID:10002481-1704279600-1704283200@explorenarrabriregion.com.au
SUMMARY:Ninja Warrior School Holiday Classes
DESCRIPTION:Come enjoy some fun obstacles\n\n\nFrom monkey bars to swinging to climbing the warped wall school holiday classes below $20pp times and dates here\n\nDecember:\n\nWednesday 20th December 11am-12pm available\n\n\nFriday 22nd December 11am-12pm available\n\n\n\nJanuary:\nWednesday 3rd 11am-12pm available\n\n\nThursday 11th 11am-12pm available\n\n\nSaturday 13th 11am-12 pm available\n\n\nMonday 15th 11am-12pm available\n\n\nWednesday 17th 11am-12pm available\n\n\nSaturday 20th 11am-12pm available\n\n\n\nThese have limited spaces don’t miss out and book in now ages 6+
URL:https://explorenarrabriregion.com.au/event/ninja-warrior-school-holiday-classes/2024-01-03/
LOCATION:Boggabri\, Narrabri\, Australia
CATEGORIES:Kids Activities
ATTACH;FMTTYPE=image/jpeg:https://explorenarrabriregion.com.au/wp-content/uploads/2023/12/ninja-warrior-boggabri.jpg
END:VEVENT
BEGIN:VEVENT
DTSTART;TZID=Australia/Sydney:20231224T080000
DTEND;TZID=Australia/Sydney:20231224T200000
DTSTAMP:20260424T040726
CREATED:20231204T040552Z
LAST-MODIFIED:20231204T040552Z
UID:10002468-1703404800-1703448000@explorenarrabriregion.com.au
SUMMARY:Boggabri FRNSW Santa Run
DESCRIPTION:Station 229 will be helping our friend Santa again this year with his lolly drop around town.\n\n\nWe will be giving Rudolph a rest this Christmas night and to guide Santa with our red truck so bright.\n\n\nSo be on the look out Christmas eve for Santa and his friends from FRNSW.
URL:https://explorenarrabriregion.com.au/event/boggabri-frnsw-santa-run/
LOCATION:Boggabri\, Narrabri\, Australia
CATEGORIES:Christmas
ATTACH;FMTTYPE=image/jpeg:https://explorenarrabriregion.com.au/wp-content/uploads/2023/12/Boggabri-FRNSW-Santa-run.jpg
END:VEVENT
BEGIN:VEVENT
DTSTART;TZID=Australia/Sydney:20231222T110000
DTEND;TZID=Australia/Sydney:20231222T120000
DTSTAMP:20260424T040726
CREATED:20231215T040651Z
LAST-MODIFIED:20231215T040651Z
UID:10002480-1703242800-1703246400@explorenarrabriregion.com.au
SUMMARY:Ninja Warrior School Holiday Classes
DESCRIPTION:Come enjoy some fun obstacles\n\n\nFrom monkey bars to swinging to climbing the warped wall school holiday classes below $20pp times and dates here\n\nDecember:\n\nWednesday 20th December 11am-12pm available\n\n\nFriday 22nd December 11am-12pm available\n\n\n\nJanuary:\nWednesday 3rd 11am-12pm available\n\n\nThursday 11th 11am-12pm available\n\n\nSaturday 13th 11am-12 pm available\n\n\nMonday 15th 11am-12pm available\n\n\nWednesday 17th 11am-12pm available\n\n\nSaturday 20th 11am-12pm available\n\n\n\nThese have limited spaces don’t miss out and book in now ages 6+
URL:https://explorenarrabriregion.com.au/event/ninja-warrior-school-holiday-classes/2023-12-22/
LOCATION:Boggabri\, Narrabri\, Australia
CATEGORIES:Kids Activities
ATTACH;FMTTYPE=image/jpeg:https://explorenarrabriregion.com.au/wp-content/uploads/2023/12/ninja-warrior-boggabri.jpg
END:VEVENT
BEGIN:VEVENT
DTSTART;TZID=Australia/Sydney:20231220T110000
DTEND;TZID=Australia/Sydney:20231220T120000
DTSTAMP:20260424T040726
CREATED:20231215T040651Z
LAST-MODIFIED:20231215T040651Z
UID:10002479-1703070000-1703073600@explorenarrabriregion.com.au
SUMMARY:Ninja Warrior School Holiday Classes
DESCRIPTION:Come enjoy some fun obstacles\n\n\nFrom monkey bars to swinging to climbing the warped wall school holiday classes below $20pp times and dates here\n\nDecember:\n\nWednesday 20th December 11am-12pm available\n\n\nFriday 22nd December 11am-12pm available\n\n\n\nJanuary:\nWednesday 3rd 11am-12pm available\n\n\nThursday 11th 11am-12pm available\n\n\nSaturday 13th 11am-12 pm available\n\n\nMonday 15th 11am-12pm available\n\n\nWednesday 17th 11am-12pm available\n\n\nSaturday 20th 11am-12pm available\n\n\n\nThese have limited spaces don’t miss out and book in now ages 6+
URL:https://explorenarrabriregion.com.au/event/ninja-warrior-school-holiday-classes/2023-12-20/
LOCATION:Boggabri\, Narrabri\, Australia
CATEGORIES:Kids Activities
ATTACH;FMTTYPE=image/jpeg:https://explorenarrabriregion.com.au/wp-content/uploads/2023/12/ninja-warrior-boggabri.jpg
END:VEVENT
END:VCALENDAR