BEGIN:VCALENDAR
VERSION:2.0
PRODID:-//Explore Narrabri Region - ECPv6.15.18//NONSGML v1.0//EN
CALSCALE:GREGORIAN
METHOD:PUBLISH
X-WR-CALNAME:Explore Narrabri Region
X-ORIGINAL-URL:https://explorenarrabriregion.com.au
X-WR-CALDESC:Events for Explore Narrabri Region
REFRESH-INTERVAL;VALUE=DURATION:PT1H
X-Robots-Tag:noindex
X-PUBLISHED-TTL:PT1H
BEGIN:VTIMEZONE
TZID:Australia/Sydney
BEGIN:STANDARD
TZOFFSETFROM:+1100
TZOFFSETTO:+1000
TZNAME:AEST
DTSTART:20240406T160000
END:STANDARD
BEGIN:DAYLIGHT
TZOFFSETFROM:+1000
TZOFFSETTO:+1100
TZNAME:AEDT
DTSTART:20241005T160000
END:DAYLIGHT
BEGIN:STANDARD
TZOFFSETFROM:+1100
TZOFFSETTO:+1000
TZNAME:AEST
DTSTART:20250405T160000
END:STANDARD
BEGIN:DAYLIGHT
TZOFFSETFROM:+1000
TZOFFSETTO:+1100
TZNAME:AEDT
DTSTART:20251004T160000
END:DAYLIGHT
BEGIN:STANDARD
TZOFFSETFROM:+1100
TZOFFSETTO:+1000
TZNAME:AEST
DTSTART:20260404T160000
END:STANDARD
BEGIN:DAYLIGHT
TZOFFSETFROM:+1000
TZOFFSETTO:+1100
TZNAME:AEDT
DTSTART:20261003T160000
END:DAYLIGHT
END:VTIMEZONE
BEGIN:VEVENT
DTSTART;TZID=Australia/Sydney:20250718T090000
DTEND;TZID=Australia/Sydney:20250718T120000
DTSTAMP:20260425T234310
CREATED:20250709T044421Z
LAST-MODIFIED:20250709T044421Z
UID:10009162-1752829200-1752840000@explorenarrabriregion.com.au
SUMMARY:Baan Baa School Holiday Tennis Clinic
DESCRIPTION:Join Coach Rod Kirk for a fun morning of tennis skills\, drills and games. Kids of all ages and ability are welcome. \nFor the adults\, why not join in on our social game and cardio session! Something for everyone. \nBring your own water bottles & morning tea\, a sausage sizzle lunch will be provided following the clinic. \n  \nWhen: 17th & 18th July \nTime: 9.00am to 12.00pm \nTickets: $10 per player\, per day. \nBook here.
URL:https://explorenarrabriregion.com.au/event/baan-baa-school-holiday-tennis-clinic/2025-07-18/
LOCATION:Baan Baa Tennis Courts
CATEGORIES:Event
ATTACH;FMTTYPE=image/jpeg:https://explorenarrabriregion.com.au/wp-content/uploads/2025/07/Winter-school-holiday-tennis-program-scaled.jpg
END:VEVENT
BEGIN:VEVENT
DTSTART;TZID=Australia/Sydney:20250717T090000
DTEND;TZID=Australia/Sydney:20250717T120000
DTSTAMP:20260425T234310
CREATED:20250709T044421Z
LAST-MODIFIED:20250709T044421Z
UID:10009161-1752742800-1752753600@explorenarrabriregion.com.au
SUMMARY:Baan Baa School Holiday Tennis Clinic
DESCRIPTION:Join Coach Rod Kirk for a fun morning of tennis skills\, drills and games. Kids of all ages and ability are welcome. \nFor the adults\, why not join in on our social game and cardio session! Something for everyone. \nBring your own water bottles & morning tea\, a sausage sizzle lunch will be provided following the clinic. \n  \nWhen: 17th & 18th July \nTime: 9.00am to 12.00pm \nTickets: $10 per player\, per day. \nBook here.
URL:https://explorenarrabriregion.com.au/event/baan-baa-school-holiday-tennis-clinic/2025-07-17/
LOCATION:Baan Baa Tennis Courts
CATEGORIES:Event
ATTACH;FMTTYPE=image/jpeg:https://explorenarrabriregion.com.au/wp-content/uploads/2025/07/Winter-school-holiday-tennis-program-scaled.jpg
END:VEVENT
BEGIN:VEVENT
DTSTART;TZID=Australia/Sydney:20250117T090000
DTEND;TZID=Australia/Sydney:20250117T120000
DTSTAMP:20260425T234310
CREATED:20250102T015004Z
LAST-MODIFIED:20250102T015004Z
UID:10004957-1737104400-1737115200@explorenarrabriregion.com.au
SUMMARY:Summer Fun in Baan Baa - Free Tennis Clinics with Rod Kirk
DESCRIPTION:Book the kids into all the action for the school holidays at the Baan Baa Hall And Tennis courts. Please register through trybooking. \nThere are family Events for all ages and it is FREE to register thanks to the NSW Government Holiday Break Program! \nhttps://www.trybooking.com/events/landing/1295035
URL:https://explorenarrabriregion.com.au/event/summer-fun-in-baan-baa-free-tennis-clinics-with-rod-kirk/2025-01-17/
LOCATION:Baan Baa Tennis Courts
CATEGORIES:Kids Activities
ATTACH;FMTTYPE=image/jpeg:https://explorenarrabriregion.com.au/wp-content/uploads/2025/01/Baan-Baa-kids.jpg
END:VEVENT
BEGIN:VEVENT
DTSTART;TZID=Australia/Sydney:20250116T090000
DTEND;TZID=Australia/Sydney:20250116T120000
DTSTAMP:20260425T234310
CREATED:20250102T015004Z
LAST-MODIFIED:20250102T015004Z
UID:10004956-1737018000-1737028800@explorenarrabriregion.com.au
SUMMARY:Summer Fun in Baan Baa - Free Tennis Clinics with Rod Kirk
DESCRIPTION:Book the kids into all the action for the school holidays at the Baan Baa Hall And Tennis courts. Please register through trybooking. \nThere are family Events for all ages and it is FREE to register thanks to the NSW Government Holiday Break Program! \nhttps://www.trybooking.com/events/landing/1295035
URL:https://explorenarrabriregion.com.au/event/summer-fun-in-baan-baa-free-tennis-clinics-with-rod-kirk/2025-01-16/
LOCATION:Baan Baa Tennis Courts
CATEGORIES:Kids Activities
ATTACH;FMTTYPE=image/jpeg:https://explorenarrabriregion.com.au/wp-content/uploads/2025/01/Baan-Baa-kids.jpg
END:VEVENT
END:VCALENDAR