BEGIN:VCALENDAR
VERSION:2.0
PRODID:-//Explore Narrabri Region - ECPv6.15.18//NONSGML v1.0//EN
CALSCALE:GREGORIAN
METHOD:PUBLISH
X-ORIGINAL-URL:https://explorenarrabriregion.com.au
X-WR-CALDESC:Events for Explore Narrabri Region
REFRESH-INTERVAL;VALUE=DURATION:PT1H
X-Robots-Tag:noindex
X-PUBLISHED-TTL:PT1H
BEGIN:VTIMEZONE
TZID:Australia/Sydney
BEGIN:STANDARD
TZOFFSETFROM:+1100
TZOFFSETTO:+1000
TZNAME:AEST
DTSTART:20240406T160000
END:STANDARD
BEGIN:DAYLIGHT
TZOFFSETFROM:+1000
TZOFFSETTO:+1100
TZNAME:AEDT
DTSTART:20241005T160000
END:DAYLIGHT
BEGIN:STANDARD
TZOFFSETFROM:+1100
TZOFFSETTO:+1000
TZNAME:AEST
DTSTART:20250405T160000
END:STANDARD
BEGIN:DAYLIGHT
TZOFFSETFROM:+1000
TZOFFSETTO:+1100
TZNAME:AEDT
DTSTART:20251004T160000
END:DAYLIGHT
BEGIN:STANDARD
TZOFFSETFROM:+1100
TZOFFSETTO:+1000
TZNAME:AEST
DTSTART:20260404T160000
END:STANDARD
BEGIN:DAYLIGHT
TZOFFSETFROM:+1000
TZOFFSETTO:+1100
TZNAME:AEDT
DTSTART:20261003T160000
END:DAYLIGHT
END:VTIMEZONE
BEGIN:VEVENT
DTSTART;TZID=Australia/Sydney:20251026T080000
DTEND;TZID=Australia/Sydney:20251026T120000
DTSTAMP:20260420T023519
CREATED:20251023T042221Z
LAST-MODIFIED:20251023T042221Z
UID:10009637-1761465600-1761480000@explorenarrabriregion.com.au
SUMMARY:Wee Waa LALC Market
DESCRIPTION:Want to get started on your Christmas gift shopping? \nThe Wee Waa LALC Market has got you covered. \nBrowse through a great selection of stalls of local small and creative businesses. \nSee ya there!
URL:https://explorenarrabriregion.com.au/event/wee-waa-lalc-market-2/
LOCATION:65/67 Rose Street\, Wee Waa\, NSW\, Australia\, New South Wales\, 65/67 Rose Street\, Wee Waa\, NSW\, 2388\, Australia
CATEGORIES:Event,Markets
ATTACH;FMTTYPE=image/jpeg:https://explorenarrabriregion.com.au/wp-content/uploads/2025/10/568541554_10240256937865889_357601107710633902_n.jpg
END:VEVENT
BEGIN:VEVENT
DTSTART;TZID=Australia/Sydney:20250629T090000
DTEND;TZID=Australia/Sydney:20250629T130000
DTSTAMP:20260420T023519
CREATED:20250623T221817Z
LAST-MODIFIED:20250623T221817Z
UID:10008733-1751187600-1751202000@explorenarrabriregion.com.au
SUMMARY:Wee Waa LALC Markets
DESCRIPTION:Head down to Rose Street to see what treasures you can find at the Wee Waa LALC markets.
URL:https://explorenarrabriregion.com.au/event/wee-waa-lalc-markets/
LOCATION:65/67 Rose Street\, Wee Waa\, NSW\, Australia\, New South Wales\, 65/67 Rose Street\, Wee Waa\, NSW\, 2388\, Australia
CATEGORIES:Markets
ATTACH;FMTTYPE=image/jpeg:https://explorenarrabriregion.com.au/wp-content/uploads/2025/06/501049287_575899142231305_3629964530041987709_n.jpg
END:VEVENT
BEGIN:VEVENT
DTSTART;TZID=Australia/Sydney:20250525T090000
DTEND;TZID=Australia/Sydney:20250525T130000
DTSTAMP:20260420T023519
CREATED:20250502T000539Z
LAST-MODIFIED:20250502T000539Z
UID:10006667-1748163600-1748178000@explorenarrabriregion.com.au
SUMMARY:Wee Waa LALC Market
DESCRIPTION:The Wee Waa LALC Sunday Markets are being held Sunday 25th May\, bringing you a fantastic day of community spirit\, local shopping\, and fresh finds.Head along and support local makers\, creators\, and businesses while enjoying a great atmosphere. Whether you’re after handmade goods\, delicious treats\, or unique gifts\, there’s something for everyone!
URL:https://explorenarrabriregion.com.au/event/wee-waa-lalc-market/
LOCATION:65/67 Rose Street\, Wee Waa\, NSW\, Australia\, New South Wales\, 65/67 Rose Street\, Wee Waa\, NSW\, 2388\, Australia
CATEGORIES:Markets
ATTACH;FMTTYPE=image/png:https://explorenarrabriregion.com.au/wp-content/uploads/2025/05/znbe48ax.png
END:VEVENT
END:VCALENDAR