BEGIN:VCALENDAR
VERSION:2.0
PRODID:-//Explore Narrabri Region - ECPv6.15.18//NONSGML v1.0//EN
CALSCALE:GREGORIAN
METHOD:PUBLISH
X-ORIGINAL-URL:https://explorenarrabriregion.com.au
X-WR-CALDESC:Events for Explore Narrabri Region
REFRESH-INTERVAL;VALUE=DURATION:PT1H
X-Robots-Tag:noindex
X-PUBLISHED-TTL:PT1H
BEGIN:VTIMEZONE
TZID:Australia/Sydney
BEGIN:STANDARD
TZOFFSETFROM:+1100
TZOFFSETTO:+1000
TZNAME:AEST
DTSTART:20240406T160000
END:STANDARD
BEGIN:DAYLIGHT
TZOFFSETFROM:+1000
TZOFFSETTO:+1100
TZNAME:AEDT
DTSTART:20241005T160000
END:DAYLIGHT
BEGIN:STANDARD
TZOFFSETFROM:+1100
TZOFFSETTO:+1000
TZNAME:AEST
DTSTART:20250405T160000
END:STANDARD
BEGIN:DAYLIGHT
TZOFFSETFROM:+1000
TZOFFSETTO:+1100
TZNAME:AEDT
DTSTART:20251004T160000
END:DAYLIGHT
BEGIN:STANDARD
TZOFFSETFROM:+1100
TZOFFSETTO:+1000
TZNAME:AEST
DTSTART:20260404T160000
END:STANDARD
BEGIN:DAYLIGHT
TZOFFSETFROM:+1000
TZOFFSETTO:+1100
TZNAME:AEDT
DTSTART:20261003T160000
END:DAYLIGHT
END:VTIMEZONE
BEGIN:VEVENT
DTSTART;TZID=Australia/Sydney:20251104T110000
DTEND;TZID=Australia/Sydney:20251104T170000
DTSTAMP:20260424T181642
CREATED:20250519T231338Z
LAST-MODIFIED:20250519T231338Z
UID:10006694-1762254000-1762275600@explorenarrabriregion.com.au
SUMMARY:Melbourne Cup Day 2025
DESCRIPTION:Head to the Wee Waa Showground for this Melbourne Cup Event. \nIndulge in a delcious 2 course indoor luncheon and enjoy a fun filled afternoon of entertainement. \nCost: General Admission to oudoor area $20\, Admission and Lunch $40\, Pensioner Concession Admission and Lunch $35 \n 
URL:https://explorenarrabriregion.com.au/event/melbourne-cup-day-2025/
LOCATION:Wee Waa Showground\, Maitland Street\, Wee Waa\, NSW\, 2388\, Australia
CATEGORIES:Event
ATTACH;FMTTYPE=image/jpeg:https://explorenarrabriregion.com.au/wp-content/uploads/2025/05/489910119_122133357362609036_662368324846267963_n.jpg
END:VEVENT
END:VCALENDAR