BEGIN:VCALENDAR
VERSION:2.0
PRODID:-//Explore Narrabri Region - ECPv6.15.18//NONSGML v1.0//EN
CALSCALE:GREGORIAN
METHOD:PUBLISH
X-ORIGINAL-URL:https://explorenarrabriregion.com.au
X-WR-CALDESC:Events for Explore Narrabri Region
REFRESH-INTERVAL;VALUE=DURATION:PT1H
X-Robots-Tag:noindex
X-PUBLISHED-TTL:PT1H
BEGIN:VTIMEZONE
TZID:Australia/Sydney
BEGIN:STANDARD
TZOFFSETFROM:+1100
TZOFFSETTO:+1000
TZNAME:AEST
DTSTART:20240406T160000
END:STANDARD
BEGIN:DAYLIGHT
TZOFFSETFROM:+1000
TZOFFSETTO:+1100
TZNAME:AEDT
DTSTART:20241005T160000
END:DAYLIGHT
BEGIN:STANDARD
TZOFFSETFROM:+1100
TZOFFSETTO:+1000
TZNAME:AEST
DTSTART:20250405T160000
END:STANDARD
BEGIN:DAYLIGHT
TZOFFSETFROM:+1000
TZOFFSETTO:+1100
TZNAME:AEDT
DTSTART:20251004T160000
END:DAYLIGHT
BEGIN:STANDARD
TZOFFSETFROM:+1100
TZOFFSETTO:+1000
TZNAME:AEST
DTSTART:20260404T160000
END:STANDARD
BEGIN:DAYLIGHT
TZOFFSETFROM:+1000
TZOFFSETTO:+1100
TZNAME:AEDT
DTSTART:20261003T160000
END:DAYLIGHT
END:VTIMEZONE
BEGIN:VEVENT
DTSTART;TZID=Australia/Sydney:20251119T180000
DTEND;TZID=Australia/Sydney:20251119T190000
DTSTAMP:20260424T152014
CREATED:20251030T222233Z
LAST-MODIFIED:20251030T222233Z
UID:10009647-1763575200-1763578800@explorenarrabriregion.com.au
SUMMARY:Sound Immersion - Wee Waa
DESCRIPTION:Crystal bowl sound immersion is a transformative experience that uses the soothing frequencies resonating from crystal bowls to promote holistic relaxation for both body and mind. During a session\, the bowls will be played\, releasing therapeutic tones and vibrations to create a deep sense of relaxation. \nSome of the benefits include: \n\nStress Relief: Experience deep relaxation and reduced tension\nEnhanced mental clarity: May help support a clearer mind and improve focus\nEmotional Release: Let go of stored emotions and feel rejuvenated\nBetter Sleep: Enjoy a restful night’s sleep and has the potential to reduce insomnia\n\nSound immersion and you brain\, what’s happening?\nThe gentle vibrations calm the mind promote emotional balance\, which has the potential to support in restful sleep. \nWhat to expect afterwards.\nAfter a session you may feel like you are in a dream like state and that’s completely normal. Many people have described feeling both grounded and energised\, as though new mental and emotional connections have been unlocked. Feedback from  previous attendees have said that they have had the best night sleep after attending the sound immersion. \nWhat to bring. \n\nWater bottle\nYoga mat\, blanket\, or something comfortable to lay on\nPillow or bolster for comfort\nEye mask if you have one(I have a few to loan out)\nBlankets or throws\nSocks\nAnd whet ever else you want to create a cosy nest\n\nThis event is for men and women \nTickets
URL:https://explorenarrabriregion.com.au/event/sound-immersion-wee-waa/
LOCATION:Wee Waa Community Arts & Cultural Centre\, 22 George St\, Wee Waa\, NSW\, 2388\, Australia
CATEGORIES:Arts & Culture,Event
ATTACH;FMTTYPE=image/jpeg:https://explorenarrabriregion.com.au/wp-content/uploads/2025/07/THINK-Meditation-1-3-scaled.jpg
ORGANIZER;CN="Think Coaching & Hypnotherapy":MAILTO:info@thinkcoaching.online
END:VEVENT
BEGIN:VEVENT
DTSTART;TZID=Australia/Sydney:20251118T180000
DTEND;TZID=Australia/Sydney:20251118T190000
DTSTAMP:20260424T152014
CREATED:20251030T222150Z
LAST-MODIFIED:20251030T222150Z
UID:10009646-1763488800-1763492400@explorenarrabriregion.com.au
SUMMARY:Sound Immersion - Narrabri
DESCRIPTION:Crystal bowl sound immersion is a transformative experience that uses the soothing frequencies resonating from crystal bowls to promote holistic relaxation for both body and mind. During a session\, the bowls will be played\, releasing therapeutic tones and vibrations to create a deep sense of relaxation. \nSome of the benefits include: \n\nStress Relief: Experience deep relaxation and reduced tension\nEnhanced mental clarity: May help support a clearer mind and improve focus\nEmotional Release: Let go of stored emotions and feel rejuvenated\nBetter Sleep: Enjoy a restful night’s sleep and has the potential to reduce insomnia\n\nSound immersion and you brain\, what’s happening?\nThe gentle vibrations calm the mind promote emotional balance\, which has the potential to support in restful sleep. \nWhat to expect afterwards.\nAfter a session you may feel like you are in a dream like state and that’s completely normal. Many people have described feeling both grounded and energised\, as though new mental and emotional connections have been unlocked. Feedback from  previous attendees have said that they have had the best night sleep after attending the sound immersion. \nWhat to bring. \n\nWater bottle\nYoga mat\, blanket\, or something comfortable to lay on\nPillow or bolster for comfort\nEye mask if you have one(I have a few to loan out)\nBlankets or throws\nSocks\nAnd whet ever else you want to create a cosy nest\n\nThis event is for men and women \nTickets
URL:https://explorenarrabriregion.com.au/event/sound-immersion-narrabri/
LOCATION:Narrabri Public School Library\, 90 Barwan Street\, Narrabri\, NSW\, 2390\, Australia
CATEGORIES:Arts & Culture,Event
ATTACH;FMTTYPE=image/jpeg:https://explorenarrabriregion.com.au/wp-content/uploads/2025/07/THINK-Meditation-1-3-scaled.jpg
ORGANIZER;CN="Think Coaching & Hypnotherapy":MAILTO:info@thinkcoaching.online
END:VEVENT
END:VCALENDAR