BEGIN:VCALENDAR
VERSION:2.0
PRODID:-//Explore Narrabri Region - ECPv6.15.18//NONSGML v1.0//EN
CALSCALE:GREGORIAN
METHOD:PUBLISH
X-WR-CALNAME:Explore Narrabri Region
X-ORIGINAL-URL:https://explorenarrabriregion.com.au
X-WR-CALDESC:Events for Explore Narrabri Region
REFRESH-INTERVAL;VALUE=DURATION:PT1H
X-Robots-Tag:noindex
X-PUBLISHED-TTL:PT1H
BEGIN:VTIMEZONE
TZID:Australia/Sydney
BEGIN:STANDARD
TZOFFSETFROM:+1100
TZOFFSETTO:+1000
TZNAME:AEST
DTSTART:20250405T160000
END:STANDARD
BEGIN:DAYLIGHT
TZOFFSETFROM:+1000
TZOFFSETTO:+1100
TZNAME:AEDT
DTSTART:20251004T160000
END:DAYLIGHT
BEGIN:STANDARD
TZOFFSETFROM:+1100
TZOFFSETTO:+1000
TZNAME:AEST
DTSTART:20260404T160000
END:STANDARD
BEGIN:DAYLIGHT
TZOFFSETFROM:+1000
TZOFFSETTO:+1100
TZNAME:AEDT
DTSTART:20261003T160000
END:DAYLIGHT
BEGIN:STANDARD
TZOFFSETFROM:+1100
TZOFFSETTO:+1000
TZNAME:AEST
DTSTART:20270403T160000
END:STANDARD
BEGIN:DAYLIGHT
TZOFFSETFROM:+1000
TZOFFSETTO:+1100
TZNAME:AEDT
DTSTART:20271002T160000
END:DAYLIGHT
END:VTIMEZONE
BEGIN:VEVENT
DTSTART;TZID=Australia/Sydney:20260215T150000
DTEND;TZID=Australia/Sydney:20260215T170000
DTSTAMP:20260423T161121
CREATED:20251016T010232Z
LAST-MODIFIED:20251016T010333Z
UID:10009632-1771167600-1771174800@explorenarrabriregion.com.au
SUMMARY:Julie Goodwin - Your Time Starts Now Tour
DESCRIPTION:Australia’s beloved home cook\, media personality and best-selling author Julie Goodwin is hitting the road in 2026 with her first-ever national live tour: \nThe Julie Goodwin – ‘Your Time Starts Now’ Tour. \nThis two-hour live show is part cooking demonstration\, part heart-to-heart chat\, and 100% Julie. Co-hosted by her longtime friend and award-winning broadcaster\, David Rabbetts(Rabbit). With their undeniable chemistry honed over years co-hosting breakfast radio together\, the show promises laughs\, tears\, and a whole lot of heart. \nWhether you’re a die-hard MasterChef fan or someone who’s followed Julie throughout her career\, this is an unmissable evening of food\, friendship and fierce honesty. \nYour Time Starts Now is not just a cooking demonstration —it’s an invitation into Julie’s world. A space where food and storytelling collide\, where vulnerability is strength\, and where laughter and tears often sit at the same table. \n\nA live 2-hour theatre experience like no other—warm\, candid\, and laugh-out-loud funny\nJulie cooking on stage\, sharing stories\, techniques and recipes\nHonest reflections on her extraordinary life: from overnight fame on MasterChef to the very real mental health struggles that followed\nReadings from her 2024 memoir ‘Your Time Starts Now’\nConversations with “Rabbit” that are equal parts hilarious and deeply moving\nAudience Q&A and interaction that makes the event feel like dinner at your best mate’s place—just with a few extra guests.\n\nTickets
URL:https://explorenarrabriregion.com.au/event/julie-goodwin-your-time-starts-now-tour/
LOCATION:The Crossing Theatre\, 117 Tibbereena Street\, Narrabri\, NSW\, 2390\, Australia
CATEGORIES:Food & Drink
ATTACH;FMTTYPE=image/jpeg:https://explorenarrabriregion.com.au/wp-content/uploads/2025/10/JG-2026-YTSN-Tour_digital_NARRABRI_show-info-portrait.jpg
GEO:-30.323705;149.780696
X-APPLE-STRUCTURED-LOCATION;VALUE=URI;X-ADDRESS=The Crossing Theatre 117 Tibbereena Street Narrabri NSW 2390 Australia;X-APPLE-RADIUS=500;X-TITLE=117 Tibbereena Street:geo:149.780696,-30.323705
END:VEVENT
END:VCALENDAR