BEGIN:VCALENDAR
VERSION:2.0
PRODID:-//Explore Narrabri Region - ECPv6.15.18//NONSGML v1.0//EN
CALSCALE:GREGORIAN
METHOD:PUBLISH
X-WR-CALNAME:Explore Narrabri Region
X-ORIGINAL-URL:https://explorenarrabriregion.com.au
X-WR-CALDESC:Events for Explore Narrabri Region
REFRESH-INTERVAL;VALUE=DURATION:PT1H
X-Robots-Tag:noindex
X-PUBLISHED-TTL:PT1H
BEGIN:VTIMEZONE
TZID:Australia/Sydney
BEGIN:STANDARD
TZOFFSETFROM:+1100
TZOFFSETTO:+1000
TZNAME:AEST
DTSTART:20260404T160000
END:STANDARD
BEGIN:DAYLIGHT
TZOFFSETFROM:+1000
TZOFFSETTO:+1100
TZNAME:AEDT
DTSTART:20261003T160000
END:DAYLIGHT
BEGIN:STANDARD
TZOFFSETFROM:+1100
TZOFFSETTO:+1000
TZNAME:AEST
DTSTART:20270403T160000
END:STANDARD
BEGIN:DAYLIGHT
TZOFFSETFROM:+1000
TZOFFSETTO:+1100
TZNAME:AEDT
DTSTART:20271002T160000
END:DAYLIGHT
BEGIN:STANDARD
TZOFFSETFROM:+1100
TZOFFSETTO:+1000
TZNAME:AEST
DTSTART:20280401T160000
END:STANDARD
BEGIN:DAYLIGHT
TZOFFSETFROM:+1000
TZOFFSETTO:+1100
TZNAME:AEDT
DTSTART:20280930T160000
END:DAYLIGHT
END:VTIMEZONE
BEGIN:VEVENT
DTSTART;TZID=Australia/Sydney:20270726T130000
DTEND;TZID=Australia/Sydney:20270726T160000
DTSTAMP:20260426T000900
CREATED:20250725T043236Z
LAST-MODIFIED:20250811T020626Z
UID:10009299-1816606800-1816617600@explorenarrabriregion.com.au
SUMMARY:Social Bridge
DESCRIPTION:Shuffle\, deal & play your way through the afternoon!Join a welcoming group of card lovers every Monday for a few hands of Bridge. \nNew members welcome\, no experience needed – they’ll teach you how to play. \n1pm – 4pm \n 
URL:https://explorenarrabriregion.com.au/event/bridge-club/2027-07-26/
LOCATION:Narrabri Aquatic Centre Multi Purpose Room\, Tibbereena Street\, Narrabri\, 2390\, Australia
CATEGORIES:Event
ATTACH;FMTTYPE=image/png:https://explorenarrabriregion.com.au/wp-content/uploads/2025/07/ChatGPT-Image-Aug-11-2025-10_09_20-AM.png
END:VEVENT
END:VCALENDAR