BEGIN:VCALENDAR
VERSION:2.0
PRODID:-//Explore Narrabri Region - ECPv6.15.18//NONSGML v1.0//EN
CALSCALE:GREGORIAN
METHOD:PUBLISH
X-ORIGINAL-URL:https://explorenarrabriregion.com.au
X-WR-CALDESC:Events for Explore Narrabri Region
REFRESH-INTERVAL;VALUE=DURATION:PT1H
X-Robots-Tag:noindex
X-PUBLISHED-TTL:PT1H
BEGIN:VTIMEZONE
TZID:Australia/Sydney
BEGIN:STANDARD
TZOFFSETFROM:+1100
TZOFFSETTO:+1000
TZNAME:AEST
DTSTART:20250405T160000
END:STANDARD
BEGIN:DAYLIGHT
TZOFFSETFROM:+1000
TZOFFSETTO:+1100
TZNAME:AEDT
DTSTART:20251004T160000
END:DAYLIGHT
BEGIN:STANDARD
TZOFFSETFROM:+1100
TZOFFSETTO:+1000
TZNAME:AEST
DTSTART:20260404T160000
END:STANDARD
BEGIN:DAYLIGHT
TZOFFSETFROM:+1000
TZOFFSETTO:+1100
TZNAME:AEDT
DTSTART:20261003T160000
END:DAYLIGHT
BEGIN:STANDARD
TZOFFSETFROM:+1100
TZOFFSETTO:+1000
TZNAME:AEST
DTSTART:20270403T160000
END:STANDARD
BEGIN:DAYLIGHT
TZOFFSETFROM:+1000
TZOFFSETTO:+1100
TZNAME:AEDT
DTSTART:20271002T160000
END:DAYLIGHT
END:VTIMEZONE
BEGIN:VEVENT
DTSTART;VALUE=DATE:20260918
DTEND;VALUE=DATE:20260921
DTSTAMP:20260424T045023
CREATED:20260204T235102Z
LAST-MODIFIED:20260204T235102Z
UID:10009973-1789689600-1789948799@explorenarrabriregion.com.au
SUMMARY:Pilliga Ultra 2026
DESCRIPTION:The Pilliga Ultra is back again for 2026. \nHeld from 18–20 September\, the Pilliga Ultra invites trail runners to stretch their legs through the stunning Pilliga Forest\, starting and finishing at Pilliga Pottery. \nThis three-day event offers a course for everyone — from the demanding 50km Ultra\, to a scenic 20km scramble across sandstone escarpments\, a technical but fun 10km run\, and even a Kids’ Race for the youngest adventurers. \nRegistrations will open later in 2026. \nHead to their website for further updates. 
URL:https://explorenarrabriregion.com.au/event/pilliga-ultra-2026/
LOCATION:Pilliga Pottery\, Narrabri\, 2390\, Australia
CATEGORIES:Sports & Fitness
ATTACH;FMTTYPE=image/jpeg:https://explorenarrabriregion.com.au/wp-content/uploads/2024/05/Pilliga-ulktra.jpg
END:VEVENT
BEGIN:VEVENT
DTSTART;TZID=Australia/Sydney:20260920T180000
DTEND;TZID=Australia/Sydney:20260920T203000
DTSTAMP:20260424T045023
CREATED:20260401T041926Z
LAST-MODIFIED:20260401T041926Z
UID:10010198-1789927200-1789936200@explorenarrabriregion.com.au
SUMMARY:Wee Waa's Wee Small Art Exhibition- From little things\, big things grow - Opening Night
DESCRIPTION:Come and celebrate 4 years of creativity\, connection and cultural growth at the Opening Night of “Wee Waa’s Wee Small Art Exhibition- From little things\, big things grow”. \nJoin us as we showcase tiny works with a big heart. This exhibition highlights how small ideas can blossom into something truly extraordinary- just like the WWCACC! \nYou’ll enjoy wee small works from local and regional artists and creatives\, a joyful atmosphere and opening night festivities including a complimentary drink on arrival\, canapes prepared by our renowned local foodie Connie Smith. \nOur favourite photographer\, Penny Vella will be in the house capturing the event\, and you’ll have the chance to have your portrait drawn by our in-house sketch artist Gilli Creates and a take home souvenir gift created by our FRIENDS of the WWCACC. \nGet your ticket here!  \nThe exhibition will be running until the 30th of May.
URL:https://explorenarrabriregion.com.au/event/wee-waas-wee-small-art-exhibition-from-little-things-big-things-grow-opening-night/2026-09-20/
LOCATION:Wee Waa Community Arts & Cultural Centre\, 22 George St\, Wee Waa\, NSW\, 2388\, Australia
CATEGORIES:Arts & Culture
ATTACH;FMTTYPE=image/jpeg:https://explorenarrabriregion.com.au/wp-content/uploads/2026/04/Wee-Small-Art-Exhibition-scaled.jpg
END:VEVENT
END:VCALENDAR