BEGIN:VCALENDAR
VERSION:2.0
PRODID:-//Explore Narrabri Region - ECPv6.15.18//NONSGML v1.0//EN
CALSCALE:GREGORIAN
METHOD:PUBLISH
X-ORIGINAL-URL:https://explorenarrabriregion.com.au
X-WR-CALDESC:Events for Explore Narrabri Region
REFRESH-INTERVAL;VALUE=DURATION:PT1H
X-Robots-Tag:noindex
X-PUBLISHED-TTL:PT1H
BEGIN:VTIMEZONE
TZID:Australia/Sydney
BEGIN:STANDARD
TZOFFSETFROM:+1100
TZOFFSETTO:+1000
TZNAME:AEST
DTSTART:20250405T160000
END:STANDARD
BEGIN:DAYLIGHT
TZOFFSETFROM:+1000
TZOFFSETTO:+1100
TZNAME:AEDT
DTSTART:20251004T160000
END:DAYLIGHT
BEGIN:STANDARD
TZOFFSETFROM:+1100
TZOFFSETTO:+1000
TZNAME:AEST
DTSTART:20260404T160000
END:STANDARD
BEGIN:DAYLIGHT
TZOFFSETFROM:+1000
TZOFFSETTO:+1100
TZNAME:AEDT
DTSTART:20261003T160000
END:DAYLIGHT
BEGIN:STANDARD
TZOFFSETFROM:+1100
TZOFFSETTO:+1000
TZNAME:AEST
DTSTART:20270403T160000
END:STANDARD
BEGIN:DAYLIGHT
TZOFFSETFROM:+1000
TZOFFSETTO:+1100
TZNAME:AEDT
DTSTART:20271002T160000
END:DAYLIGHT
END:VTIMEZONE
BEGIN:VEVENT
DTSTART;TZID=Australia/Sydney:20260817T080000
DTEND;TZID=Australia/Sydney:20260817T170000
DTSTAMP:20260423T224949
CREATED:20260112T225543Z
LAST-MODIFIED:20260112T225543Z
UID:10009956-1786953600-1786986000@explorenarrabriregion.com.au
SUMMARY:Arts National - A Photographic Odyssey - Shackleton’s Endurance Expedition
DESCRIPTION:Presented by Mark Cottle. On Ernest Shackleton’s third Antarctic expedition in 1914\, his ship the Endurance was trapped\, eventually crushed in pack ice. Shackleton sailed with five companions over 800 miles to South Georgia\, returning over three months later to rescue his stranded crew. Australian Frank Hurley was the expedition’s official photographer. \nHis images capture with great artistry the amazing landscapes within which this remarkable human drama unfolded. This talk illustrates Hurley’s great talent behind the lens\, in the first flush of human contact when the Antarctic remained essentially ‘terra incognita’. \nBorn on the Isles of Scilly and educated at Truro School\, Cornwall\, and Birmingham University\, Mark Cottle has enjoyed a career in education and training at home and abroad\, lecturing at colleges and universities on medieval\, Tudor\, and Anglo Saxon England. \nTickets
URL:https://explorenarrabriregion.com.au/event/arts-national-a-photographic-odyssey-shackletons-endurance-expedition/
LOCATION:The Crossing Theatre\, 117 Tibbereena Street\, Narrabri\, NSW\, 2390\, Australia
CATEGORIES:Arts & Culture
ATTACH;FMTTYPE=image/jpeg:https://explorenarrabriregion.com.au/wp-content/uploads/2026/01/5-A-Photographic-Odyssey-Shackleton-Square.jpg
GEO:-30.323705;149.780696
X-APPLE-STRUCTURED-LOCATION;VALUE=URI;X-ADDRESS=The Crossing Theatre 117 Tibbereena Street Narrabri NSW 2390 Australia;X-APPLE-RADIUS=500;X-TITLE=117 Tibbereena Street:geo:149.780696,-30.323705
END:VEVENT
BEGIN:VEVENT
DTSTART;TZID=Australia/Sydney:20260817T130000
DTEND;TZID=Australia/Sydney:20260817T160000
DTSTAMP:20260423T224949
CREATED:20250725T043236Z
LAST-MODIFIED:20250811T020626Z
UID:10009250-1786971600-1786982400@explorenarrabriregion.com.au
SUMMARY:Social Bridge
DESCRIPTION:Shuffle\, deal & play your way through the afternoon!Join a welcoming group of card lovers every Monday for a few hands of Bridge. \nNew members welcome\, no experience needed – they’ll teach you how to play. \n1pm – 4pm \n 
URL:https://explorenarrabriregion.com.au/event/bridge-club/2026-08-17/
LOCATION:Narrabri Aquatic Centre Multi Purpose Room\, Tibbereena Street\, Narrabri\, 2390\, Australia
CATEGORIES:Event
ATTACH;FMTTYPE=image/png:https://explorenarrabriregion.com.au/wp-content/uploads/2025/07/ChatGPT-Image-Aug-11-2025-10_09_20-AM.png
END:VEVENT
BEGIN:VEVENT
DTSTART;TZID=Australia/Sydney:20260817T180000
DTEND;TZID=Australia/Sydney:20260817T203000
DTSTAMP:20260423T224949
CREATED:20260401T041926Z
LAST-MODIFIED:20260401T041926Z
UID:10010164-1786989600-1786998600@explorenarrabriregion.com.au
SUMMARY:Wee Waa's Wee Small Art Exhibition- From little things\, big things grow - Opening Night
DESCRIPTION:Come and celebrate 4 years of creativity\, connection and cultural growth at the Opening Night of “Wee Waa’s Wee Small Art Exhibition- From little things\, big things grow”. \nJoin us as we showcase tiny works with a big heart. This exhibition highlights how small ideas can blossom into something truly extraordinary- just like the WWCACC! \nYou’ll enjoy wee small works from local and regional artists and creatives\, a joyful atmosphere and opening night festivities including a complimentary drink on arrival\, canapes prepared by our renowned local foodie Connie Smith. \nOur favourite photographer\, Penny Vella will be in the house capturing the event\, and you’ll have the chance to have your portrait drawn by our in-house sketch artist Gilli Creates and a take home souvenir gift created by our FRIENDS of the WWCACC. \nGet your ticket here!  \nThe exhibition will be running until the 30th of May.
URL:https://explorenarrabriregion.com.au/event/wee-waas-wee-small-art-exhibition-from-little-things-big-things-grow-opening-night/2026-08-17/
LOCATION:Wee Waa Community Arts & Cultural Centre\, 22 George St\, Wee Waa\, NSW\, 2388\, Australia
CATEGORIES:Arts & Culture
ATTACH;FMTTYPE=image/jpeg:https://explorenarrabriregion.com.au/wp-content/uploads/2026/04/Wee-Small-Art-Exhibition-scaled.jpg
END:VEVENT
END:VCALENDAR