BEGIN:VCALENDAR
VERSION:2.0
PRODID:-//Explore Narrabri Region - ECPv6.15.18//NONSGML v1.0//EN
CALSCALE:GREGORIAN
METHOD:PUBLISH
X-ORIGINAL-URL:https://explorenarrabriregion.com.au
X-WR-CALDESC:Events for Explore Narrabri Region
REFRESH-INTERVAL;VALUE=DURATION:PT1H
X-Robots-Tag:noindex
X-PUBLISHED-TTL:PT1H
BEGIN:VTIMEZONE
TZID:Australia/Sydney
BEGIN:STANDARD
TZOFFSETFROM:+1100
TZOFFSETTO:+1000
TZNAME:AEST
DTSTART:20250405T160000
END:STANDARD
BEGIN:DAYLIGHT
TZOFFSETFROM:+1000
TZOFFSETTO:+1100
TZNAME:AEDT
DTSTART:20251004T160000
END:DAYLIGHT
BEGIN:STANDARD
TZOFFSETFROM:+1100
TZOFFSETTO:+1000
TZNAME:AEST
DTSTART:20260404T160000
END:STANDARD
BEGIN:DAYLIGHT
TZOFFSETFROM:+1000
TZOFFSETTO:+1100
TZNAME:AEDT
DTSTART:20261003T160000
END:DAYLIGHT
BEGIN:STANDARD
TZOFFSETFROM:+1100
TZOFFSETTO:+1000
TZNAME:AEST
DTSTART:20270403T160000
END:STANDARD
BEGIN:DAYLIGHT
TZOFFSETFROM:+1000
TZOFFSETTO:+1100
TZNAME:AEDT
DTSTART:20271002T160000
END:DAYLIGHT
END:VTIMEZONE
BEGIN:VEVENT
DTSTART;TZID=Australia/Sydney:20260714T110000
DTEND;TZID=Australia/Sydney:20260714T120000
DTSTAMP:20260423T084227
CREATED:20240419T044506Z
LAST-MODIFIED:20250729T031439Z
UID:10003920-1784026800-1784030400@explorenarrabriregion.com.au
SUMMARY:Empower Golf Clinic
DESCRIPTION:Join Empower Golf’s welcoming community and learn to play golf (outdoors and/or indoors)\, regardless of a disability or golfing experience at the Narrabri Golfie. \n11 am – 12 pm\, every second Tuesday of every month\, starting in June 2024. \nEmpower Golf is for NDIS-eligible adults and young people who have a disability caused by intellectual\, cognitive\, neurological\, sensory\, physical or psychosocial impairment that need disability-specific support for daily life activities.  Carers are welcome! \nThere are limited places at these FREE golf clinics – sign up today by scanning the QR code in the attached flyer.  For more information email info@empowergolf.com.au or visit empowergolf.com.au
URL:https://explorenarrabriregion.com.au/event/empower-golf-clinic/2026-07-14/
LOCATION:Narrabri Golf Club\, Gibbons St\, Narrabri\, NSW\, 2390\, Australia
CATEGORIES:Sports & Fitness
ATTACH;FMTTYPE=image/jpeg:https://explorenarrabriregion.com.au/wp-content/uploads/2024/04/Empower-Golf.jpg
GEO:-30.3273473;149.7764164
X-APPLE-STRUCTURED-LOCATION;VALUE=URI;X-ADDRESS=Narrabri Golf Club Gibbons St Narrabri NSW 2390 Australia;X-APPLE-RADIUS=500;X-TITLE=Gibbons St:geo:149.7764164,-30.3273473
END:VEVENT
BEGIN:VEVENT
DTSTART;TZID=Australia/Sydney:20260714T180000
DTEND;TZID=Australia/Sydney:20260714T203000
DTSTAMP:20260423T084227
CREATED:20260401T041926Z
LAST-MODIFIED:20260401T041926Z
UID:10010130-1784052000-1784061000@explorenarrabriregion.com.au
SUMMARY:Wee Waa's Wee Small Art Exhibition- From little things\, big things grow - Opening Night
DESCRIPTION:Come and celebrate 4 years of creativity\, connection and cultural growth at the Opening Night of “Wee Waa’s Wee Small Art Exhibition- From little things\, big things grow”. \nJoin us as we showcase tiny works with a big heart. This exhibition highlights how small ideas can blossom into something truly extraordinary- just like the WWCACC! \nYou’ll enjoy wee small works from local and regional artists and creatives\, a joyful atmosphere and opening night festivities including a complimentary drink on arrival\, canapes prepared by our renowned local foodie Connie Smith. \nOur favourite photographer\, Penny Vella will be in the house capturing the event\, and you’ll have the chance to have your portrait drawn by our in-house sketch artist Gilli Creates and a take home souvenir gift created by our FRIENDS of the WWCACC. \nGet your ticket here!  \nThe exhibition will be running until the 30th of May.
URL:https://explorenarrabriregion.com.au/event/wee-waas-wee-small-art-exhibition-from-little-things-big-things-grow-opening-night/2026-07-14/
LOCATION:Wee Waa Community Arts & Cultural Centre\, 22 George St\, Wee Waa\, NSW\, 2388\, Australia
CATEGORIES:Arts & Culture
ATTACH;FMTTYPE=image/jpeg:https://explorenarrabriregion.com.au/wp-content/uploads/2026/04/Wee-Small-Art-Exhibition-scaled.jpg
END:VEVENT
END:VCALENDAR