BEGIN:VCALENDAR
VERSION:2.0
PRODID:-//Explore Narrabri Region - ECPv6.15.18//NONSGML v1.0//EN
CALSCALE:GREGORIAN
METHOD:PUBLISH
X-ORIGINAL-URL:https://explorenarrabriregion.com.au
X-WR-CALDESC:Events for Explore Narrabri Region
REFRESH-INTERVAL;VALUE=DURATION:PT1H
X-Robots-Tag:noindex
X-PUBLISHED-TTL:PT1H
BEGIN:VTIMEZONE
TZID:Australia/Sydney
BEGIN:STANDARD
TZOFFSETFROM:+1100
TZOFFSETTO:+1000
TZNAME:AEST
DTSTART:20250405T160000
END:STANDARD
BEGIN:DAYLIGHT
TZOFFSETFROM:+1000
TZOFFSETTO:+1100
TZNAME:AEDT
DTSTART:20251004T160000
END:DAYLIGHT
BEGIN:STANDARD
TZOFFSETFROM:+1100
TZOFFSETTO:+1000
TZNAME:AEST
DTSTART:20260404T160000
END:STANDARD
BEGIN:DAYLIGHT
TZOFFSETFROM:+1000
TZOFFSETTO:+1100
TZNAME:AEDT
DTSTART:20261003T160000
END:DAYLIGHT
BEGIN:STANDARD
TZOFFSETFROM:+1100
TZOFFSETTO:+1000
TZNAME:AEST
DTSTART:20270403T160000
END:STANDARD
BEGIN:DAYLIGHT
TZOFFSETFROM:+1000
TZOFFSETTO:+1100
TZNAME:AEDT
DTSTART:20271002T160000
END:DAYLIGHT
END:VTIMEZONE
BEGIN:VEVENT
DTSTART;TZID=Australia/Sydney:20260628T103000
DTEND;TZID=Australia/Sydney:20260628T163000
DTSTAMP:20260423T003215
CREATED:20260303T235602Z
LAST-MODIFIED:20260303T235602Z
UID:10010015-1782642600-1782664200@explorenarrabriregion.com.au
SUMMARY:Mediumship Live Show
DESCRIPTION:Narrabri\, join world-renowned psychic medium Donna Young in Narrabri\, NSW for a powerful and heartfelt evening of live mediumship as she bridges the gap between worlds\, delivering messages from loved ones in spirit. \nTwo sessions available. This is a live audience mediumship event. While Donna will connect with spirit throughout the session\, not everyone is guaranteed to receive a personal reading. \nTwo sessions available: 10.30am and 2.30pm
URL:https://explorenarrabriregion.com.au/event/mediumship-live-show/
LOCATION:The Crossing Theatre\, 117 Tibbereena Street\, Narrabri\, NSW\, 2390\, Australia
CATEGORIES:Event
ATTACH;FMTTYPE=image/jpeg:https://explorenarrabriregion.com.au/wp-content/uploads/2026/03/645893750_1542372817894255_3897169940497591422_n.jpg
GEO:-30.323705;149.780696
X-APPLE-STRUCTURED-LOCATION;VALUE=URI;X-ADDRESS=The Crossing Theatre 117 Tibbereena Street Narrabri NSW 2390 Australia;X-APPLE-RADIUS=500;X-TITLE=117 Tibbereena Street:geo:149.780696,-30.323705
END:VEVENT
BEGIN:VEVENT
DTSTART;TZID=Australia/Sydney:20260628T180000
DTEND;TZID=Australia/Sydney:20260628T203000
DTSTAMP:20260423T003215
CREATED:20260401T041926Z
LAST-MODIFIED:20260401T041926Z
UID:10010114-1782669600-1782678600@explorenarrabriregion.com.au
SUMMARY:Wee Waa's Wee Small Art Exhibition- From little things\, big things grow - Opening Night
DESCRIPTION:Come and celebrate 4 years of creativity\, connection and cultural growth at the Opening Night of “Wee Waa’s Wee Small Art Exhibition- From little things\, big things grow”. \nJoin us as we showcase tiny works with a big heart. This exhibition highlights how small ideas can blossom into something truly extraordinary- just like the WWCACC! \nYou’ll enjoy wee small works from local and regional artists and creatives\, a joyful atmosphere and opening night festivities including a complimentary drink on arrival\, canapes prepared by our renowned local foodie Connie Smith. \nOur favourite photographer\, Penny Vella will be in the house capturing the event\, and you’ll have the chance to have your portrait drawn by our in-house sketch artist Gilli Creates and a take home souvenir gift created by our FRIENDS of the WWCACC. \nGet your ticket here!  \nThe exhibition will be running until the 30th of May.
URL:https://explorenarrabriregion.com.au/event/wee-waas-wee-small-art-exhibition-from-little-things-big-things-grow-opening-night/2026-06-28/
LOCATION:Wee Waa Community Arts & Cultural Centre\, 22 George St\, Wee Waa\, NSW\, 2388\, Australia
CATEGORIES:Arts & Culture
ATTACH;FMTTYPE=image/jpeg:https://explorenarrabriregion.com.au/wp-content/uploads/2026/04/Wee-Small-Art-Exhibition-scaled.jpg
END:VEVENT
END:VCALENDAR