BEGIN:VCALENDAR
VERSION:2.0
PRODID:-//Explore Narrabri Region - ECPv6.15.18//NONSGML v1.0//EN
CALSCALE:GREGORIAN
METHOD:PUBLISH
X-WR-CALNAME:Explore Narrabri Region
X-ORIGINAL-URL:https://explorenarrabriregion.com.au
X-WR-CALDESC:Events for Explore Narrabri Region
REFRESH-INTERVAL;VALUE=DURATION:PT1H
X-Robots-Tag:noindex
X-PUBLISHED-TTL:PT1H
BEGIN:VTIMEZONE
TZID:Australia/Sydney
BEGIN:STANDARD
TZOFFSETFROM:+1100
TZOFFSETTO:+1000
TZNAME:AEST
DTSTART:20250405T160000
END:STANDARD
BEGIN:DAYLIGHT
TZOFFSETFROM:+1000
TZOFFSETTO:+1100
TZNAME:AEDT
DTSTART:20251004T160000
END:DAYLIGHT
BEGIN:STANDARD
TZOFFSETFROM:+1100
TZOFFSETTO:+1000
TZNAME:AEST
DTSTART:20260404T160000
END:STANDARD
BEGIN:DAYLIGHT
TZOFFSETFROM:+1000
TZOFFSETTO:+1100
TZNAME:AEDT
DTSTART:20261003T160000
END:DAYLIGHT
BEGIN:STANDARD
TZOFFSETFROM:+1100
TZOFFSETTO:+1000
TZNAME:AEST
DTSTART:20270403T160000
END:STANDARD
BEGIN:DAYLIGHT
TZOFFSETFROM:+1000
TZOFFSETTO:+1100
TZNAME:AEDT
DTSTART:20271002T160000
END:DAYLIGHT
END:VTIMEZONE
BEGIN:VEVENT
DTSTART;VALUE=DATE:20260516
DTEND;VALUE=DATE:20260517
DTSTAMP:20260422T192352
CREATED:20260216T221417Z
LAST-MODIFIED:20260216T221417Z
UID:10010006-1778889600-1778975999@explorenarrabriregion.com.au
SUMMARY:The Gardeners Gala
DESCRIPTION:Head down to Eulah Creek Hall to celebrate all things green. \nFrom guest speakers to demonstrations and workshops – this is a day for anyone with a green thumb. \nBrowse through garden themed stalls as you immerse yourself in a day all about gardening. \nIf you have a bit of a green thumb and want to get involved\, contact the Eulah Park Hall Committee to find out more.
URL:https://explorenarrabriregion.com.au/event/the-gardeners-gala/
LOCATION:Beulah Park  Hall\, Eulah Creek\, NSW\, 2390\, Australia
CATEGORIES:Markets
ATTACH;FMTTYPE=image/jpeg:https://explorenarrabriregion.com.au/wp-content/uploads/2026/02/Eulah-Creek-Garden-Day.jpg
GEO:-30.3422206;149.9926637
END:VEVENT
BEGIN:VEVENT
DTSTART;TZID=Australia/Sydney:20260516T074500
DTEND;TZID=Australia/Sydney:20260516T090000
DTSTAMP:20260422T192352
CREATED:20251113T045031Z
LAST-MODIFIED:20251130T232908Z
UID:10009689-1778917500-1778922000@explorenarrabriregion.com.au
SUMMARY:Narrabri Parkrun
DESCRIPTION:Join a supportive group to start your weekend with some energy!\nWhether you’re up for a morning stroll\, light jog or full-on sprint – this community FREE timed 5km event around the Narrabri West Lake is a must. \nFirst time at Park Run? Register here!  \nMeet at the BBQ’s Rotunda near the Pirate Parke.
URL:https://explorenarrabriregion.com.au/event/narrabri-parkrun-4/2026-05-16/
LOCATION:Narrabri West Lake\, Walowa St\, Narrabri\, NSW\, 2390\, Australia
CATEGORIES:Sports & Fitness
ATTACH;FMTTYPE=image/jpeg:https://explorenarrabriregion.com.au/wp-content/uploads/2024/01/Narrabri-PARK-RUN.jpg
ORGANIZER;CN="Narrabri Parkrun":MAILTO:narrabri@parkrun.com
GEO:-30.3356005;149.756984
X-APPLE-STRUCTURED-LOCATION;VALUE=URI;X-ADDRESS=Narrabri West Lake Walowa St Narrabri NSW 2390 Australia;X-APPLE-RADIUS=500;X-TITLE=Walowa St:geo:149.756984,-30.3356005
END:VEVENT
BEGIN:VEVENT
DTSTART;TZID=Australia/Sydney:20260516T180000
DTEND;TZID=Australia/Sydney:20260516T203000
DTSTAMP:20260422T192352
CREATED:20260401T041926Z
LAST-MODIFIED:20260401T041926Z
UID:10010071-1778954400-1778963400@explorenarrabriregion.com.au
SUMMARY:Wee Waa's Wee Small Art Exhibition- From little things\, big things grow - Opening Night
DESCRIPTION:Come and celebrate 4 years of creativity\, connection and cultural growth at the Opening Night of “Wee Waa’s Wee Small Art Exhibition- From little things\, big things grow”. \nJoin us as we showcase tiny works with a big heart. This exhibition highlights how small ideas can blossom into something truly extraordinary- just like the WWCACC! \nYou’ll enjoy wee small works from local and regional artists and creatives\, a joyful atmosphere and opening night festivities including a complimentary drink on arrival\, canapes prepared by our renowned local foodie Connie Smith. \nOur favourite photographer\, Penny Vella will be in the house capturing the event\, and you’ll have the chance to have your portrait drawn by our in-house sketch artist Gilli Creates and a take home souvenir gift created by our FRIENDS of the WWCACC. \nGet your ticket here!  \nThe exhibition will be running until the 30th of May.
URL:https://explorenarrabriregion.com.au/event/wee-waas-wee-small-art-exhibition-from-little-things-big-things-grow-opening-night/2026-05-16/
LOCATION:Wee Waa Community Arts & Cultural Centre\, 22 George St\, Wee Waa\, NSW\, 2388\, Australia
CATEGORIES:Arts & Culture
ATTACH;FMTTYPE=image/jpeg:https://explorenarrabriregion.com.au/wp-content/uploads/2026/04/Wee-Small-Art-Exhibition-scaled.jpg
END:VEVENT
BEGIN:VEVENT
DTSTART;TZID=Australia/Sydney:20260516T210000
DTEND;TZID=Australia/Sydney:20260516T233000
DTSTAMP:20260422T192352
CREATED:20260401T035223Z
LAST-MODIFIED:20260401T035223Z
UID:10010039-1778965200-1778974200@explorenarrabriregion.com.au
SUMMARY:Live music at the Tourist: Jimm Craz Band
DESCRIPTION:This Tamworth based trio are back for another round\, playing everyone’s favourites from the classics to the current top 40!
URL:https://explorenarrabriregion.com.au/event/live-music-at-the-tourist-jimm-craz-band/
LOCATION:Tourist Hotel\, 142 Maitland Street\, Narrabri\, NSW\, 2390\, Australia
CATEGORIES:Music
ATTACH;FMTTYPE=image/jpeg:https://explorenarrabriregion.com.au/wp-content/uploads/2026/04/JimmyCrazBand.jpg
END:VEVENT
END:VCALENDAR