BEGIN:VCALENDAR
VERSION:2.0
PRODID:-//Explore Narrabri Region - ECPv6.15.18//NONSGML v1.0//EN
CALSCALE:GREGORIAN
METHOD:PUBLISH
X-WR-CALNAME:Explore Narrabri Region
X-ORIGINAL-URL:https://explorenarrabriregion.com.au
X-WR-CALDESC:Events for Explore Narrabri Region
REFRESH-INTERVAL;VALUE=DURATION:PT1H
X-Robots-Tag:noindex
X-PUBLISHED-TTL:PT1H
BEGIN:VTIMEZONE
TZID:Australia/Sydney
BEGIN:STANDARD
TZOFFSETFROM:+1100
TZOFFSETTO:+1000
TZNAME:AEST
DTSTART:20250405T160000
END:STANDARD
BEGIN:DAYLIGHT
TZOFFSETFROM:+1000
TZOFFSETTO:+1100
TZNAME:AEDT
DTSTART:20251004T160000
END:DAYLIGHT
BEGIN:STANDARD
TZOFFSETFROM:+1100
TZOFFSETTO:+1000
TZNAME:AEST
DTSTART:20260404T160000
END:STANDARD
BEGIN:DAYLIGHT
TZOFFSETFROM:+1000
TZOFFSETTO:+1100
TZNAME:AEDT
DTSTART:20261003T160000
END:DAYLIGHT
BEGIN:STANDARD
TZOFFSETFROM:+1100
TZOFFSETTO:+1000
TZNAME:AEST
DTSTART:20270403T160000
END:STANDARD
BEGIN:DAYLIGHT
TZOFFSETFROM:+1000
TZOFFSETTO:+1100
TZNAME:AEDT
DTSTART:20271002T160000
END:DAYLIGHT
END:VTIMEZONE
BEGIN:VEVENT
DTSTART;VALUE=DATE:20260506
DTEND;VALUE=DATE:20260511
DTSTAMP:20260423T002424
CREATED:20250911T232438Z
LAST-MODIFIED:20260112T230026Z
UID:10009610-1778025600-1778457599@explorenarrabriregion.com.au
SUMMARY:Cotton Capital Country Music Muster
DESCRIPTION:The Cotton Capital Country Music Muster is back in 2026! \nGet ready for five unforgettable days of music\, entertainment\, and country hospitality in the heart of the cotton capital. With something for everyone\, it’s an event not to be missed! \nProgram Highlights \nWalk-ups: Wednesday 6 – Friday 8 May \nLocal Tours (details to come): Cotton Farm & Gin\, CSIRO Australian Telescope\, Namoi Echo Museum \nMarket Day: Friday 8 May \nMain Concert: Saturday 9 May (artist announcements coming soon!) \nMother’s Day Poets Breakfast: Sunday 10 May \nStay on-site: Caravan and RV camping available.
URL:https://explorenarrabriregion.com.au/event/cotton-capital-country-music-muster/
LOCATION:Wee Waa Showground\, Maitland Street\, Wee Waa\, NSW\, 2388\, Australia
CATEGORIES:Event,Markets,Music
ATTACH;FMTTYPE=image/jpeg:https://explorenarrabriregion.com.au/wp-content/uploads/2025/09/Country-Music-Muster-2026.jpg
ORGANIZER;CN="Cotton Capital Muster":MAILTO:cottoncapitalmuster@gmail.com
END:VEVENT
BEGIN:VEVENT
DTSTART;TZID=Australia/Sydney:20260509T074500
DTEND;TZID=Australia/Sydney:20260509T090000
DTSTAMP:20260423T002424
CREATED:20251113T045031Z
LAST-MODIFIED:20251130T232908Z
UID:10009688-1778312700-1778317200@explorenarrabriregion.com.au
SUMMARY:Narrabri Parkrun
DESCRIPTION:Join a supportive group to start your weekend with some energy!\nWhether you’re up for a morning stroll\, light jog or full-on sprint – this community FREE timed 5km event around the Narrabri West Lake is a must. \nFirst time at Park Run? Register here!  \nMeet at the BBQ’s Rotunda near the Pirate Parke.
URL:https://explorenarrabriregion.com.au/event/narrabri-parkrun-4/2026-05-09/
LOCATION:Narrabri West Lake\, Walowa St\, Narrabri\, NSW\, 2390\, Australia
CATEGORIES:Sports & Fitness
ATTACH;FMTTYPE=image/jpeg:https://explorenarrabriregion.com.au/wp-content/uploads/2024/01/Narrabri-PARK-RUN.jpg
ORGANIZER;CN="Narrabri Parkrun":MAILTO:narrabri@parkrun.com
GEO:-30.3356005;149.756984
X-APPLE-STRUCTURED-LOCATION;VALUE=URI;X-ADDRESS=Narrabri West Lake Walowa St Narrabri NSW 2390 Australia;X-APPLE-RADIUS=500;X-TITLE=Walowa St:geo:149.756984,-30.3356005
END:VEVENT
BEGIN:VEVENT
DTSTART;TZID=Australia/Sydney:20260509T120000
DTEND;TZID=Australia/Sydney:20260509T223000
DTSTAMP:20260423T002424
CREATED:20260112T230223Z
LAST-MODIFIED:20260112T230247Z
UID:10009959-1778328000-1778365800@explorenarrabriregion.com.au
SUMMARY:Cotton Capital Country Music Muster - Main Concert
DESCRIPTION:The Cotton Capital Country Music Muster is back in 2026! \nGet ready for five unforgettable days of music\, entertainment\, and country hospitality in the heart of the cotton capital. With something for everyone\, it’s an event not to be missed! \nMain Concert featuring Ged & Trudy\, John Battle\, Kylie Castle\, Cameron Mason\, Errol Gray\, Lach MacKay\, Neville Anderson\, Smokie Pete\, Rob Breese & Reece Blinman. \nTickets \nThis is a community event\, coordinated & hosted by the Wee Waa Lions Club. \nOnsite caravan/RV and camping facilities at the Wee Waa Showground (Muster Site).\nFind us on Facebook for updates
URL:https://explorenarrabriregion.com.au/event/cotton-capital-country-music-muster-2/
LOCATION:Wee Waa Showground\, Maitland Street\, Wee Waa\, NSW\, 2388\, Australia
CATEGORIES:Event,Markets,Music
ATTACH;FMTTYPE=image/jpeg:https://explorenarrabriregion.com.au/wp-content/uploads/2025/09/Country-Music-Muster-2026.jpg
ORGANIZER;CN="Cotton Capital Muster":MAILTO:cottoncapitalmuster@gmail.com
END:VEVENT
BEGIN:VEVENT
DTSTART;TZID=Australia/Sydney:20260509T160000
DTEND;TZID=Australia/Sydney:20260509T233000
DTSTAMP:20260423T002424
CREATED:20260401T034908Z
LAST-MODIFIED:20260401T034908Z
UID:10010038-1778342400-1778369400@explorenarrabriregion.com.au
SUMMARY:Live Music at the Tourist: The Bad 80's Band
DESCRIPTION:Sydney’s best 80’s cover band will be playing all the guilty pleasures\, from everyone’s favourite decade of music. \nCome down for the ultimate throwback as everyone dances and sings the night away. \n80s getup highly encouraged!
URL:https://explorenarrabriregion.com.au/event/live-music-at-the-tourist-the-bad-80s-band/
LOCATION:Tourist Hotel\, 142 Maitland Street\, Narrabri\, NSW\, 2390\, Australia
CATEGORIES:Music
ATTACH;FMTTYPE=image/jpeg:https://explorenarrabriregion.com.au/wp-content/uploads/2026/04/Bad80sBand.jpg
END:VEVENT
BEGIN:VEVENT
DTSTART;TZID=Australia/Sydney:20260509T180000
DTEND;TZID=Australia/Sydney:20260509T203000
DTSTAMP:20260423T002424
CREATED:20260401T041926Z
LAST-MODIFIED:20260401T041926Z
UID:10010064-1778349600-1778358600@explorenarrabriregion.com.au
SUMMARY:Wee Waa's Wee Small Art Exhibition- From little things\, big things grow - Opening Night
DESCRIPTION:Come and celebrate 4 years of creativity\, connection and cultural growth at the Opening Night of “Wee Waa’s Wee Small Art Exhibition- From little things\, big things grow”. \nJoin us as we showcase tiny works with a big heart. This exhibition highlights how small ideas can blossom into something truly extraordinary- just like the WWCACC! \nYou’ll enjoy wee small works from local and regional artists and creatives\, a joyful atmosphere and opening night festivities including a complimentary drink on arrival\, canapes prepared by our renowned local foodie Connie Smith. \nOur favourite photographer\, Penny Vella will be in the house capturing the event\, and you’ll have the chance to have your portrait drawn by our in-house sketch artist Gilli Creates and a take home souvenir gift created by our FRIENDS of the WWCACC. \nGet your ticket here!  \nThe exhibition will be running until the 30th of May.
URL:https://explorenarrabriregion.com.au/event/wee-waas-wee-small-art-exhibition-from-little-things-big-things-grow-opening-night/2026-05-09/
LOCATION:Wee Waa Community Arts & Cultural Centre\, 22 George St\, Wee Waa\, NSW\, 2388\, Australia
CATEGORIES:Arts & Culture
ATTACH;FMTTYPE=image/jpeg:https://explorenarrabriregion.com.au/wp-content/uploads/2026/04/Wee-Small-Art-Exhibition-scaled.jpg
END:VEVENT
END:VCALENDAR