BEGIN:VCALENDAR
VERSION:2.0
PRODID:-//Explore Narrabri Region - ECPv6.15.18//NONSGML v1.0//EN
CALSCALE:GREGORIAN
METHOD:PUBLISH
X-ORIGINAL-URL:https://explorenarrabriregion.com.au
X-WR-CALDESC:Events for Explore Narrabri Region
REFRESH-INTERVAL;VALUE=DURATION:PT1H
X-Robots-Tag:noindex
X-PUBLISHED-TTL:PT1H
BEGIN:VTIMEZONE
TZID:Australia/Sydney
BEGIN:STANDARD
TZOFFSETFROM:+1100
TZOFFSETTO:+1000
TZNAME:AEST
DTSTART:20250405T160000
END:STANDARD
BEGIN:DAYLIGHT
TZOFFSETFROM:+1000
TZOFFSETTO:+1100
TZNAME:AEDT
DTSTART:20251004T160000
END:DAYLIGHT
BEGIN:STANDARD
TZOFFSETFROM:+1100
TZOFFSETTO:+1000
TZNAME:AEST
DTSTART:20260404T160000
END:STANDARD
BEGIN:DAYLIGHT
TZOFFSETFROM:+1000
TZOFFSETTO:+1100
TZNAME:AEDT
DTSTART:20261003T160000
END:DAYLIGHT
BEGIN:STANDARD
TZOFFSETFROM:+1100
TZOFFSETTO:+1000
TZNAME:AEST
DTSTART:20270403T160000
END:STANDARD
BEGIN:DAYLIGHT
TZOFFSETFROM:+1000
TZOFFSETTO:+1100
TZNAME:AEDT
DTSTART:20271002T160000
END:DAYLIGHT
END:VTIMEZONE
BEGIN:VEVENT
DTSTART;VALUE=DATE:20260501
DTEND;VALUE=DATE:20260504
DTSTAMP:20260420T101554
CREATED:20260112T223723Z
LAST-MODIFIED:20260112T223723Z
UID:10009951-1777593600-1777852799@explorenarrabriregion.com.au
SUMMARY:The 2026 Narrabri Show
DESCRIPTION:Celebrating 150 years\, the Narrabri Show is back and bigger than ever in 2026. \nOver three days\, you’ll experience the very best of Country hospitality and entertainment. \nFrom browsing handmade goods in the pavilions to rodeo shows each night\, there is something for everyone at the Show. \nStay tuned for more details on the program. \n 
URL:https://explorenarrabriregion.com.au/event/the-2026-narrabri-show/
LOCATION:Narrabri Showground\, Ugoa Street\, Narrabri\, Nsw\, 2390\, Australia
CATEGORIES:Country Show,Food & Drink,Kids Activities
ATTACH;FMTTYPE=image/jpeg:https://explorenarrabriregion.com.au/wp-content/uploads/2026/01/Narrabri-Show-2026-e1768257429377.jpg
ORGANIZER;CN="Narrabri Show Society Inc.":MAILTO:narrabrishow@gmail.com
GEO:-30.3250572;149.7829808
X-APPLE-STRUCTURED-LOCATION;VALUE=URI;X-ADDRESS=Narrabri Showground Ugoa Street Narrabri Nsw 2390 Australia;X-APPLE-RADIUS=500;X-TITLE=Ugoa Street:geo:149.7829808,-30.3250572
END:VEVENT
BEGIN:VEVENT
DTSTART;TZID=Australia/Sydney:20260501T100000
DTEND;TZID=Australia/Sydney:20260501T120000
DTSTAMP:20260420T101554
CREATED:20250401T050048Z
LAST-MODIFIED:20260205T235117Z
UID:10009992-1777629600-1777636800@explorenarrabriregion.com.au
SUMMARY:Sandstone Caves Cultural Tour
DESCRIPTION:Come along on this 1.8km walk around the stunning and sacred Sandstone Caves. We’ll learn about the plants\, animals\, and natural features that have sustained Aboriginal communities for thousands of years. \nYour guide will share fascinating stories and tell you about spiritual and cultural beliefs that shaped the land\, its creatures and people. \nAlong the way\, you’ll gain insight into traditional practices such as hunting\, foraging and tool making. We’ll explore how the land was carefully managed and cared for through sustainable practices. \nYour guide will share the cultural revitalisation efforts underway to preserve and share traditional knowledge. You’ll have the chance to hear about the ongoing resilience and strength of Aboriginal communities today. \nIf you’re looking to explore the natural beauty of Australia while deepening your understanding of Aboriginal history\, this immersive experience is perfect you. \nIt’s a good idea to bring a hat\, sunscreen\, sturdy walking shoes\, drinking water and snacks. \nBookings required. Phone 1300 072 757 for more information or book online. \n10am and 2pm slots available. 
URL:https://explorenarrabriregion.com.au/event/sandstone-caves-cultural-tour-2/2026-05-01/
LOCATION:Pilliga State Conservation Area
CATEGORIES:Arts & Culture,Health & Well being,Kids Activities
ATTACH;FMTTYPE=image/png:https://explorenarrabriregion.com.au/wp-content/uploads/2025/04/2uwzximc.png
END:VEVENT
BEGIN:VEVENT
DTSTART;TZID=Australia/Sydney:20260501T180000
DTEND;TZID=Australia/Sydney:20260501T203000
DTSTAMP:20260420T101554
CREATED:20260401T041926Z
LAST-MODIFIED:20260401T041926Z
UID:10010056-1777658400-1777667400@explorenarrabriregion.com.au
SUMMARY:Wee Waa's Wee Small Art Exhibition- From little things\, big things grow - Opening Night
DESCRIPTION:Come and celebrate 4 years of creativity\, connection and cultural growth at the Opening Night of “Wee Waa’s Wee Small Art Exhibition- From little things\, big things grow”. \nJoin us as we showcase tiny works with a big heart. This exhibition highlights how small ideas can blossom into something truly extraordinary- just like the WWCACC! \nYou’ll enjoy wee small works from local and regional artists and creatives\, a joyful atmosphere and opening night festivities including a complimentary drink on arrival\, canapes prepared by our renowned local foodie Connie Smith. \nOur favourite photographer\, Penny Vella will be in the house capturing the event\, and you’ll have the chance to have your portrait drawn by our in-house sketch artist Gilli Creates and a take home souvenir gift created by our FRIENDS of the WWCACC. \nGet your ticket here!  \nThe exhibition will be running until the 30th of May.
URL:https://explorenarrabriregion.com.au/event/wee-waas-wee-small-art-exhibition-from-little-things-big-things-grow-opening-night/2026-05-01/
LOCATION:Wee Waa Community Arts & Cultural Centre\, 22 George St\, Wee Waa\, NSW\, 2388\, Australia
CATEGORIES:Arts & Culture
ATTACH;FMTTYPE=image/jpeg:https://explorenarrabriregion.com.au/wp-content/uploads/2026/04/Wee-Small-Art-Exhibition-scaled.jpg
END:VEVENT
END:VCALENDAR