BEGIN:VCALENDAR
VERSION:2.0
PRODID:-//Explore Narrabri Region - ECPv6.15.18//NONSGML v1.0//EN
CALSCALE:GREGORIAN
METHOD:PUBLISH
X-ORIGINAL-URL:https://explorenarrabriregion.com.au
X-WR-CALDESC:Events for Explore Narrabri Region
REFRESH-INTERVAL;VALUE=DURATION:PT1H
X-Robots-Tag:noindex
X-PUBLISHED-TTL:PT1H
BEGIN:VTIMEZONE
TZID:Australia/Sydney
BEGIN:STANDARD
TZOFFSETFROM:+1100
TZOFFSETTO:+1000
TZNAME:AEST
DTSTART:20250405T160000
END:STANDARD
BEGIN:DAYLIGHT
TZOFFSETFROM:+1000
TZOFFSETTO:+1100
TZNAME:AEDT
DTSTART:20251004T160000
END:DAYLIGHT
BEGIN:STANDARD
TZOFFSETFROM:+1100
TZOFFSETTO:+1000
TZNAME:AEST
DTSTART:20260404T160000
END:STANDARD
BEGIN:DAYLIGHT
TZOFFSETFROM:+1000
TZOFFSETTO:+1100
TZNAME:AEDT
DTSTART:20261003T160000
END:DAYLIGHT
BEGIN:STANDARD
TZOFFSETFROM:+1100
TZOFFSETTO:+1000
TZNAME:AEST
DTSTART:20270403T160000
END:STANDARD
BEGIN:DAYLIGHT
TZOFFSETFROM:+1000
TZOFFSETTO:+1100
TZNAME:AEDT
DTSTART:20271002T160000
END:DAYLIGHT
END:VTIMEZONE
BEGIN:VEVENT
DTSTART;VALUE=DATE:20260424
DTEND;VALUE=DATE:20260427
DTSTAMP:20260420T171758
CREATED:20260106T043043Z
LAST-MODIFIED:20260410T001155Z
UID:10009948-1776988800-1777247999@explorenarrabriregion.com.au
SUMMARY:Boggabri Drovers Campfire
DESCRIPTION:The Boggabri Drovers’ Campfire will mark a special milestone in April 2026\, celebrating 20 years of bringing people together under the stars. \nNow a firm favourite on the travel calendar\, the Campfire weekend attracts caravanners\, motorhome travellers\, campers\, four-wheel drivers and those rolling out a swag or tent while exploring Australia’s highways and backroads. First sparked by Lion Geoff Eather and brought to life with the support of the Boggabri Lions Club\, the event has grown into a relaxed\, welcoming weekend that showcases the very best of country hospitality. The celebration is held annually on the last weekend of April. \nAcross the weekend\, visitors can enjoy a wide range of activities including a large communal campfire\, camp oven cooking\, shearing demonstrations\, district and attraction tours\, bush poetry\, craft stalls\, whip cracking displays\, antique machinery\, live bush bands and nightly entertainment. Above all\, it’s a chance to connect with the local community and fellow travellers.
URL:https://explorenarrabriregion.com.au/event/boggabri-drovers-campfire-3/
LOCATION:Boggabri Showground\, Kamilaroi Highway\, Boggabri\, NSW\, 2382\, Australia
CATEGORIES:Event
ATTACH;FMTTYPE=image/jpeg:https://explorenarrabriregion.com.au/wp-content/uploads/2026/01/Boggabri-Drovers-Campfire-Link-Preview.jpg
GEO:-30.3324062;149.7812403
X-APPLE-STRUCTURED-LOCATION;VALUE=URI;X-ADDRESS=Boggabri Showground Kamilaroi Highway Boggabri NSW 2382 Australia;X-APPLE-RADIUS=500;X-TITLE=Kamilaroi Highway:geo:149.7812403,-30.3324062
END:VEVENT
BEGIN:VEVENT
DTSTART;TZID=Australia/Sydney:20260425T070000
DTEND;TZID=Australia/Sydney:20260425T090000
DTSTAMP:20260420T171758
CREATED:20250721T235524Z
LAST-MODIFIED:20250721T235527Z
UID:10006610-1777100400-1777107600@explorenarrabriregion.com.au
SUMMARY:Kev's Big Breakfast - Namoi Echo Museum
DESCRIPTION:Let Kev cook you an amazing brekky on the 4th Saturday of every month between 7.00am – 9.00am. \nAdults $15.00 \nKids under 12 years $6.00 \nMarket stalls start at 7am and will be there until no more customers. \nPlease bring cash (NO EFTPOS) \nAll served with a smile.
URL:https://explorenarrabriregion.com.au/event/kevs-big-breakfast-namoi-echo-museum-2-4-2/2026-04-25/
LOCATION:Namoi Echo Museum Wee Waa\, Rose St\, Wee Waa\, NSW\, 2388\, Australia
CATEGORIES:Food & Drink
ATTACH;FMTTYPE=image/jpeg:https://explorenarrabriregion.com.au/wp-content/uploads/2025/04/509422771_10161165242626160_2552997705255320129_n.jpg
GEO:-30.2242024;149.4458236
X-APPLE-STRUCTURED-LOCATION;VALUE=URI;X-ADDRESS=Namoi Echo Museum Wee Waa Rose St Wee Waa NSW 2388 Australia;X-APPLE-RADIUS=500;X-TITLE=Rose St:geo:149.4458236,-30.2242024
END:VEVENT
BEGIN:VEVENT
DTSTART;TZID=Australia/Sydney:20260425T074500
DTEND;TZID=Australia/Sydney:20260425T090000
DTSTAMP:20260420T171758
CREATED:20251113T045031Z
LAST-MODIFIED:20251130T232908Z
UID:10009686-1777103100-1777107600@explorenarrabriregion.com.au
SUMMARY:Narrabri Parkrun
DESCRIPTION:Join a supportive group to start your weekend with some energy!\nWhether you’re up for a morning stroll\, light jog or full-on sprint – this community FREE timed 5km event around the Narrabri West Lake is a must. \nFirst time at Park Run? Register here!  \nMeet at the BBQ’s Rotunda near the Pirate Parke.
URL:https://explorenarrabriregion.com.au/event/narrabri-parkrun-4/2026-04-25/
LOCATION:Narrabri West Lake\, Walowa St\, Narrabri\, NSW\, 2390\, Australia
CATEGORIES:Sports & Fitness
ATTACH;FMTTYPE=image/jpeg:https://explorenarrabriregion.com.au/wp-content/uploads/2024/01/Narrabri-PARK-RUN.jpg
ORGANIZER;CN="Narrabri Parkrun":MAILTO:narrabri@parkrun.com
GEO:-30.3356005;149.756984
X-APPLE-STRUCTURED-LOCATION;VALUE=URI;X-ADDRESS=Narrabri West Lake Walowa St Narrabri NSW 2390 Australia;X-APPLE-RADIUS=500;X-TITLE=Walowa St:geo:149.756984,-30.3356005
END:VEVENT
BEGIN:VEVENT
DTSTART;TZID=Australia/Sydney:20260425T180000
DTEND;TZID=Australia/Sydney:20260425T203000
DTSTAMP:20260420T171758
CREATED:20260401T041926Z
LAST-MODIFIED:20260401T041926Z
UID:10010050-1777140000-1777149000@explorenarrabriregion.com.au
SUMMARY:Wee Waa's Wee Small Art Exhibition- From little things\, big things grow - Opening Night
DESCRIPTION:Come and celebrate 4 years of creativity\, connection and cultural growth at the Opening Night of “Wee Waa’s Wee Small Art Exhibition- From little things\, big things grow”. \nJoin us as we showcase tiny works with a big heart. This exhibition highlights how small ideas can blossom into something truly extraordinary- just like the WWCACC! \nYou’ll enjoy wee small works from local and regional artists and creatives\, a joyful atmosphere and opening night festivities including a complimentary drink on arrival\, canapes prepared by our renowned local foodie Connie Smith. \nOur favourite photographer\, Penny Vella will be in the house capturing the event\, and you’ll have the chance to have your portrait drawn by our in-house sketch artist Gilli Creates and a take home souvenir gift created by our FRIENDS of the WWCACC. \nGet your ticket here!  \nThe exhibition will be running until the 30th of May.
URL:https://explorenarrabriregion.com.au/event/wee-waas-wee-small-art-exhibition-from-little-things-big-things-grow-opening-night/2026-04-25/
LOCATION:Wee Waa Community Arts & Cultural Centre\, 22 George St\, Wee Waa\, NSW\, 2388\, Australia
CATEGORIES:Arts & Culture
ATTACH;FMTTYPE=image/jpeg:https://explorenarrabriregion.com.au/wp-content/uploads/2026/04/Wee-Small-Art-Exhibition-scaled.jpg
END:VEVENT
BEGIN:VEVENT
DTSTART;TZID=Australia/Sydney:20260425T210000
DTEND;TZID=Australia/Sydney:20260425T233000
DTSTAMP:20260420T171758
CREATED:20260401T034035Z
LAST-MODIFIED:20260401T034106Z
UID:10010036-1777150800-1777159800@explorenarrabriregion.com.au
SUMMARY:Live Music at the Tourist: Javier Wild Whispers
DESCRIPTION:Javier Wild Whispers are on stage for this Anzac Day long weekend.
URL:https://explorenarrabriregion.com.au/event/live-music-at-the-tourist-javier-wild-whispers/
LOCATION:Tourist Hotel\, 142 Maitland Street\, Narrabri\, NSW\, 2390\, Australia
CATEGORIES:Music
ATTACH;FMTTYPE=image/jpeg:https://explorenarrabriregion.com.au/wp-content/uploads/2026/04/JavierBand.jpg
END:VEVENT
END:VCALENDAR