BEGIN:VCALENDAR
VERSION:2.0
PRODID:-//Explore Narrabri Region - ECPv6.15.18//NONSGML v1.0//EN
CALSCALE:GREGORIAN
METHOD:PUBLISH
X-WR-CALNAME:Explore Narrabri Region
X-ORIGINAL-URL:https://explorenarrabriregion.com.au
X-WR-CALDESC:Events for Explore Narrabri Region
REFRESH-INTERVAL;VALUE=DURATION:PT1H
X-Robots-Tag:noindex
X-PUBLISHED-TTL:PT1H
BEGIN:VTIMEZONE
TZID:Australia/Sydney
BEGIN:STANDARD
TZOFFSETFROM:+1100
TZOFFSETTO:+1000
TZNAME:AEST
DTSTART:20250405T160000
END:STANDARD
BEGIN:DAYLIGHT
TZOFFSETFROM:+1000
TZOFFSETTO:+1100
TZNAME:AEDT
DTSTART:20251004T160000
END:DAYLIGHT
BEGIN:STANDARD
TZOFFSETFROM:+1100
TZOFFSETTO:+1000
TZNAME:AEST
DTSTART:20260404T160000
END:STANDARD
BEGIN:DAYLIGHT
TZOFFSETFROM:+1000
TZOFFSETTO:+1100
TZNAME:AEDT
DTSTART:20261003T160000
END:DAYLIGHT
BEGIN:STANDARD
TZOFFSETFROM:+1100
TZOFFSETTO:+1000
TZNAME:AEST
DTSTART:20270403T160000
END:STANDARD
BEGIN:DAYLIGHT
TZOFFSETFROM:+1000
TZOFFSETTO:+1100
TZNAME:AEDT
DTSTART:20271002T160000
END:DAYLIGHT
END:VTIMEZONE
BEGIN:VEVENT
DTSTART;TZID=Australia/Sydney:20260410T090000
DTEND;TZID=Australia/Sydney:20260410T120000
DTSTAMP:20260420T070221
CREATED:20260318T005640Z
LAST-MODIFIED:20260318T005640Z
UID:10010029-1775811600-1775822400@explorenarrabriregion.com.au
SUMMARY:NarraBRIGHT Fish Farm Tour & Breakfast Bundle
DESCRIPTION:Start your morning waterside at the Narrabri Fish Farm with freshly brewed roasted coffee and a relaxed breakfast of your choice from the menu\, before heading off on a guided tractor-trailer tour of this impressive aquaculture operation. \nDiscover how NSW’s largest hatchery-based aquaculture farm breeds Golden Perch\, Murray Cod\, Eel-Tailed Catfish\, Silver Perch and Yabbies\, supporting local rivers and waterways across the region. With over 100 ponds to explore\, a towering Murray Cod sculpture and a special didgeridoo performance by Cultural Tour Guide Rick Cunningham\, this NarraBRIGHT event offers a unique blend of food\, culture and behind-the-scenes insight into one of the Narrabri Region’s true hidden gems. \nSessions available: Friday\, 10 April & Saturday\, 11 April 9.00am \nTickets: $35 with spots limited. \nBook your spot today\, this is one you don’t want to miss!  \n 
URL:https://explorenarrabriregion.com.au/event/narrabright-fish-farm-tour-breakfast-bundle/2026-04-10/
LOCATION:Narrabri Fish Farm\, Narrabri\, 2390\, Australia
CATEGORIES:Arts & Culture,Food & Drink,Kids Activities,Tours
ATTACH;FMTTYPE=image/jpeg:https://explorenarrabriregion.com.au/wp-content/uploads/2026/03/20250905-_DSC9115-scaled.jpg
END:VEVENT
BEGIN:VEVENT
DTSTART;TZID=Australia/Sydney:20260410T100000
DTEND;TZID=Australia/Sydney:20260410T120000
DTSTAMP:20260420T070221
CREATED:20250401T042400Z
LAST-MODIFIED:20260205T231419Z
UID:10009984-1775815200-1775822400@explorenarrabriregion.com.au
SUMMARY:Nandewar guided nature stroll
DESCRIPTION:Immerse yourself in the wonders of nature and boost your wellbeing with an expert Discovery ranger on this guided stroll along the timber boardwalks of Dawsons Spring nature trail. \nYou’ll engage your senses and gain a deeper understanding of the intricate relationships between plants\, animals and their ecosystem in the rugged landscape of Mount Kaputar National Park. \nFollowing the Dawsons Spring nature trail\, our ranger will help you discover the unique species of the area through birdwatching and nature spotting. You’ll learn about the Kaputar pink slug which thrives in this special environment\, found nowhere else in the world. \nBe sure to ask about the volcanic history of the Nandewar Range and its fascinating geological past. \nBookings required. Phone 1300 072 757 for more information or book online.
URL:https://explorenarrabriregion.com.au/event/nandewar-guided-nature-stroll/2026-04-10/
LOCATION:Dawsons Spring\, Narrabri\, NSW\, 2390\, Australia
CATEGORIES:Health & Well being,Kids Activities
ATTACH;FMTTYPE=image/png:https://explorenarrabriregion.com.au/wp-content/uploads/2025/04/00hm8ea3.png
END:VEVENT
BEGIN:VEVENT
DTSTART;TZID=Australia/Sydney:20260410T170000
DTEND;TZID=Australia/Sydney:20260410T230000
DTSTAMP:20260420T070221
CREATED:20260106T043520Z
LAST-MODIFIED:20260128T004739Z
UID:10009949-1775840400-1775862000@explorenarrabriregion.com.au
SUMMARY:NarraBRIGHT
DESCRIPTION:Step into the magic this April as NarraBRIGHT transforms Narrabri’s CBD and Collins Park into a glowing wonderland of light\, art and imagination. \nOn Friday\, 10 April 2026\, experience a night where creativity meets community — and the ordinary becomes extraordinary. With this year’s theme\, Fantasy\, the streets of Narrabri will come alive with dazzling light projections\, vibrant performances\, interactive displays\, and immersive installations inspired by mythical worlds and magical creatures. \nFind out more here.
URL:https://explorenarrabriregion.com.au/event/narrabright-3/
LOCATION:Maitland Street Narrabri\, Maitland Street\, Narrabri\, NSW\, 2390\, Australia
CATEGORIES:Arts & Culture,Kids Activities,Markets,Music
ATTACH;FMTTYPE=image/jpeg:https://explorenarrabriregion.com.au/wp-content/uploads/2025/10/NarraBRIGHT-2025-150-1-scaled.jpg
END:VEVENT
BEGIN:VEVENT
DTSTART;TZID=Australia/Sydney:20260410T190000
DTEND;TZID=Australia/Sydney:20260410T210000
DTSTAMP:20260420T070221
CREATED:20260410T011103Z
LAST-MODIFIED:20260410T011103Z
UID:10010488-1775847600-1775854800@explorenarrabriregion.com.au
SUMMARY:Monique Clare in Concert
DESCRIPTION:Wielding a cello\, powerhouse vocals and arresting onstage energy\, Monique Clare is a multi award-winning songwriter who’s deeply personal storytelling has elicited cathartic tears and laughter from audiences around the world. Her songwriting mirrors her classical training\, immersion in the folk scene\, and art-pop influences like Björk and Joanna Newsom. Insatiably adventurous\, her career has spanned teaching music in war-torn Afghanistan to playing cello with Eminem to a crowd of 80\,000 people\, touring her acclaimed album ‘Sight’ across Europe and leading hikers up mountainsides for sunrise concerts. With an innovative style that shatters preconceptions of the cello\, a disarmingly candid stage presence and a smile as wide as the Cheshire cat’s\, her live show is mesmerising\, offbeat and impactful. \nFeatured on ABC’s Radio National Music Show\, her 2022 debut album ‘Sight’ took out album and song of the year awards at the Australian Folk Music Awards and Queensland Music Awards respectively. Her trailblazing style has earned a growing list of accolades: she received a Danny award for her 2024 performance at Celtic Connections in Scotland\, was nominated for the 2023 National Live Music Awards\, and was named the 2017 Young Artist of the Year by Folk Alliance Australia. Her 2024 tour of the UK and Europe included appearances at Cambridge Folk Festival (England)\, Kaustinen Folk Festival (Finland)\, Seto Folk (Estonia) and Magpie’s Nest Festival (England). \n  \nTickets
URL:https://explorenarrabriregion.com.au/event/monique-clare-in-concert/
LOCATION:Baan Baa Hall\, Baan Baa\, NSW\, 2390\, Australia
CATEGORIES:Music
ATTACH;FMTTYPE=image/png:https://explorenarrabriregion.com.au/wp-content/uploads/2026/04/Monique-Clare-in-COncert.png
GEO:-30.5981613;149.9523304
END:VEVENT
BEGIN:VEVENT
DTSTART;TZID=Australia/Sydney:20260410T210000
DTEND;TZID=Australia/Sydney:20260410T233000
DTSTAMP:20260420T070221
CREATED:20260401T033400Z
LAST-MODIFIED:20260401T033400Z
UID:10010033-1775854800-1775863800@explorenarrabriregion.com.au
SUMMARY:Live Music at the Tourist: Glow Party
DESCRIPTION:  \nKeep the NarraBRIGHT celebrations glowing late into the night as DJ Conz hits the stage for the Tourist Hotel’s Glow Party.
URL:https://explorenarrabriregion.com.au/event/live-music-at-the-tourist-glow-party/
LOCATION:Tourist Hotel\, 142 Maitland Street\, Narrabri\, NSW\, 2390\, Australia
CATEGORIES:Music
ATTACH;FMTTYPE=image/jpeg:https://explorenarrabriregion.com.au/wp-content/uploads/2026/04/Glow-Party.jpg
END:VEVENT
END:VCALENDAR