BEGIN:VCALENDAR
VERSION:2.0
PRODID:-//Explore Narrabri Region - ECPv6.15.18//NONSGML v1.0//EN
CALSCALE:GREGORIAN
METHOD:PUBLISH
X-WR-CALNAME:Explore Narrabri Region
X-ORIGINAL-URL:https://explorenarrabriregion.com.au
X-WR-CALDESC:Events for Explore Narrabri Region
REFRESH-INTERVAL;VALUE=DURATION:PT1H
X-Robots-Tag:noindex
X-PUBLISHED-TTL:PT1H
BEGIN:VTIMEZONE
TZID:Australia/Sydney
BEGIN:STANDARD
TZOFFSETFROM:+1100
TZOFFSETTO:+1000
TZNAME:AEST
DTSTART:20250405T160000
END:STANDARD
BEGIN:DAYLIGHT
TZOFFSETFROM:+1000
TZOFFSETTO:+1100
TZNAME:AEDT
DTSTART:20251004T160000
END:DAYLIGHT
BEGIN:STANDARD
TZOFFSETFROM:+1100
TZOFFSETTO:+1000
TZNAME:AEST
DTSTART:20260404T160000
END:STANDARD
BEGIN:DAYLIGHT
TZOFFSETFROM:+1000
TZOFFSETTO:+1100
TZNAME:AEDT
DTSTART:20261003T160000
END:DAYLIGHT
BEGIN:STANDARD
TZOFFSETFROM:+1100
TZOFFSETTO:+1000
TZNAME:AEST
DTSTART:20270403T160000
END:STANDARD
BEGIN:DAYLIGHT
TZOFFSETFROM:+1000
TZOFFSETTO:+1100
TZNAME:AEDT
DTSTART:20271002T160000
END:DAYLIGHT
END:VTIMEZONE
BEGIN:VEVENT
DTSTART;TZID=Australia/Sydney:20260323T130000
DTEND;TZID=Australia/Sydney:20260323T160000
DTSTAMP:20260423T043435
CREATED:20250725T043236Z
LAST-MODIFIED:20250811T020626Z
UID:10009229-1774270800-1774281600@explorenarrabriregion.com.au
SUMMARY:Social Bridge
DESCRIPTION:Shuffle\, deal & play your way through the afternoon!Join a welcoming group of card lovers every Monday for a few hands of Bridge. \nNew members welcome\, no experience needed – they’ll teach you how to play. \n1pm – 4pm \n 
URL:https://explorenarrabriregion.com.au/event/bridge-club/2026-03-23/
LOCATION:Narrabri Aquatic Centre Multi Purpose Room\, Tibbereena Street\, Narrabri\, 2390\, Australia
CATEGORIES:Event
ATTACH;FMTTYPE=image/png:https://explorenarrabriregion.com.au/wp-content/uploads/2025/07/ChatGPT-Image-Aug-11-2025-10_09_20-AM.png
END:VEVENT
BEGIN:VEVENT
DTSTART;TZID=Australia/Sydney:20260323T180000
DTEND;TZID=Australia/Sydney:20260323T190000
DTSTAMP:20260423T043435
CREATED:20260204T232906Z
LAST-MODIFIED:20260204T232906Z
UID:10009969-1774288800-1774292400@explorenarrabriregion.com.au
SUMMARY:Mindfulness & Meditation 101
DESCRIPTION:Pause. Breathe. Centre. \nFeeling stressed\, overwhelmed\, or constantly “on”? \nJoin us for guided mindfulness and meditation workshops designed to help you slow down\, rest your nervous system and build calm into everyday life. \nWhat you’ll experience:  \n\nGuided mindfulness & meditation practices\nSimple breathing techniques\nTools to improve focus\, emotional balance & sleep\nA supportive\, judgement-free environment\nPractical techniques you can use immediately\n\n  \nWho it’s for?  \n\nBeginners & experienced welcome\nAdults seeking stress relief\, clarity and inner calm\nNo prior meditation experience needed\n\n  \nWorkshop Details:  \nMonday Evenings 6.00pm to 7.00pm \n9 & 23 Feb\, 9 & 23 Mar \nTuesday Mornings 9.00am to 10.00am \n10 & 24 Feb\, 10 & 24 Mar \n  \n$30 casual class or $100 for the four. \n 
URL:https://explorenarrabriregion.com.au/event/mindfulness-meditation-101/2026-03-23/
LOCATION:Wee Waa Community Arts & Cultural Centre\, 22 George St\, Wee Waa\, NSW\, 2388\, Australia
CATEGORIES:Health & Well being
ORGANIZER;CN="Susan Michell":MAILTO:susanmichell@gmail.com
END:VEVENT
END:VCALENDAR