BEGIN:VCALENDAR
VERSION:2.0
PRODID:-//Explore Narrabri Region - ECPv6.15.18//NONSGML v1.0//EN
CALSCALE:GREGORIAN
METHOD:PUBLISH
X-ORIGINAL-URL:https://explorenarrabriregion.com.au
X-WR-CALDESC:Events for Explore Narrabri Region
REFRESH-INTERVAL;VALUE=DURATION:PT1H
X-Robots-Tag:noindex
X-PUBLISHED-TTL:PT1H
BEGIN:VTIMEZONE
TZID:Australia/Sydney
BEGIN:STANDARD
TZOFFSETFROM:+1100
TZOFFSETTO:+1000
TZNAME:AEST
DTSTART:20250405T160000
END:STANDARD
BEGIN:DAYLIGHT
TZOFFSETFROM:+1000
TZOFFSETTO:+1100
TZNAME:AEDT
DTSTART:20251004T160000
END:DAYLIGHT
BEGIN:STANDARD
TZOFFSETFROM:+1100
TZOFFSETTO:+1000
TZNAME:AEST
DTSTART:20260404T160000
END:STANDARD
BEGIN:DAYLIGHT
TZOFFSETFROM:+1000
TZOFFSETTO:+1100
TZNAME:AEDT
DTSTART:20261003T160000
END:DAYLIGHT
BEGIN:STANDARD
TZOFFSETFROM:+1100
TZOFFSETTO:+1000
TZNAME:AEST
DTSTART:20270403T160000
END:STANDARD
BEGIN:DAYLIGHT
TZOFFSETFROM:+1000
TZOFFSETTO:+1100
TZNAME:AEDT
DTSTART:20271002T160000
END:DAYLIGHT
END:VTIMEZONE
BEGIN:VEVENT
DTSTART;TZID=Australia/Sydney:20260321T074500
DTEND;TZID=Australia/Sydney:20260321T090000
DTSTAMP:20260423T150843
CREATED:20251113T045031Z
LAST-MODIFIED:20251130T232908Z
UID:10009681-1774079100-1774083600@explorenarrabriregion.com.au
SUMMARY:Narrabri Parkrun
DESCRIPTION:Join a supportive group to start your weekend with some energy!\nWhether you’re up for a morning stroll\, light jog or full-on sprint – this community FREE timed 5km event around the Narrabri West Lake is a must. \nFirst time at Park Run? Register here!  \nMeet at the BBQ’s Rotunda near the Pirate Parke.
URL:https://explorenarrabriregion.com.au/event/narrabri-parkrun-4/2026-03-21/
LOCATION:Narrabri West Lake\, Walowa St\, Narrabri\, NSW\, 2390\, Australia
CATEGORIES:Sports & Fitness
ATTACH;FMTTYPE=image/jpeg:https://explorenarrabriregion.com.au/wp-content/uploads/2024/01/Narrabri-PARK-RUN.jpg
ORGANIZER;CN="Narrabri Parkrun":MAILTO:narrabri@parkrun.com
GEO:-30.3356005;149.756984
X-APPLE-STRUCTURED-LOCATION;VALUE=URI;X-ADDRESS=Narrabri West Lake Walowa St Narrabri NSW 2390 Australia;X-APPLE-RADIUS=500;X-TITLE=Walowa St:geo:149.756984,-30.3356005
END:VEVENT
BEGIN:VEVENT
DTSTART;TZID=Australia/Sydney:20260321T090000
DTEND;TZID=Australia/Sydney:20260321T130000
DTSTAMP:20260423T150843
CREATED:20260218T020645Z
LAST-MODIFIED:20260218T020645Z
UID:10010008-1774083600-1774098000@explorenarrabriregion.com.au
SUMMARY:Boggabri Show & Shine
DESCRIPTION:Rev Heads get ready! \nAs long as it has wheels and an engine\, its accepted at the Boggabri Show & Shine! \nWith a car show\, swap meet and market stalls – this is a paradise for car and engine lovers. \nHead on over to the Commercial Hotel afterwards to keep the energy going. \nEntry for attendee’s is a gold coin donation. \nVehicle registrations $5 and open from 6.00am. \n 
URL:https://explorenarrabriregion.com.au/event/boggabri-show-shine-2/
LOCATION:Jubilee Oval\, Corner of Hull and Caxton Streets\, Boggabri\, New South Wales\, 2382
CATEGORIES:Event,Markets
ATTACH;FMTTYPE=image/png:https://explorenarrabriregion.com.au/wp-content/uploads/2026/02/Boggabri-Show-and-Shine.png
ORGANIZER;CN="Boggabri Business Chamber":MAILTO:contact.boggabri@gmail.com
END:VEVENT
BEGIN:VEVENT
DTSTART;TZID=Australia/Sydney:20260321T110000
DTEND;TZID=Australia/Sydney:20260321T190000
DTSTAMP:20260423T150843
CREATED:20250305T021106Z
LAST-MODIFIED:20260319T024525Z
UID:10006523-1774090800-1774119600@explorenarrabriregion.com.au
SUMMARY:Narrabri Races
DESCRIPTION:The Narrabri Races are back again in 2026 to be a key highlight of the Narrabri events calendar. \nStrap in for a day of racing as the Narrabri Jockey Club put on an excellent day of entertainment and Fashions on the Field. \nMore info on this year’s programming coming soon. Stay tuned!
URL:https://explorenarrabriregion.com.au/event/narrabri-races-2/
LOCATION:Narrabri Race Course\, Bailey St\, Narrabri\, NSW\, 2390\, Australia
CATEGORIES:Races
ATTACH;FMTTYPE=image/jpeg:https://explorenarrabriregion.com.au/wp-content/uploads/2025/03/TC-Narrabri-Race-Day-1-5-scaled.jpg
GEO:-30.3185249;149.7915663
X-APPLE-STRUCTURED-LOCATION;VALUE=URI;X-ADDRESS=Narrabri Race Course Bailey St Narrabri NSW 2390 Australia;X-APPLE-RADIUS=500;X-TITLE=Bailey St:geo:149.7915663,-30.3185249
END:VEVENT
BEGIN:VEVENT
DTSTART;TZID=Australia/Sydney:20260321T190000
DTEND;TZID=Australia/Sydney:20260321T233000
DTSTAMP:20260423T150843
CREATED:20260304T005616Z
LAST-MODIFIED:20260304T005616Z
UID:10010019-1774119600-1774135800@explorenarrabriregion.com.au
SUMMARY:Narrabri Races After Party: Collins Class
DESCRIPTION:Feel like kicking on after the races? \nCome down to the Tourist to continue to the festivities with live music from Collins Class. \n 
URL:https://explorenarrabriregion.com.au/event/narrabri-races-after-party-collins-class/
LOCATION:Tourist Hotel\, 142 Maitland Street\, Narrabri\, NSW\, 2390\, Australia
CATEGORIES:Music
ATTACH;FMTTYPE=image/jpeg:https://explorenarrabriregion.com.au/wp-content/uploads/2026/03/Tourist-March-events-e1772585060742.jpg
END:VEVENT
END:VCALENDAR