BEGIN:VCALENDAR
VERSION:2.0
PRODID:-//Explore Narrabri Region - ECPv6.15.18//NONSGML v1.0//EN
CALSCALE:GREGORIAN
METHOD:PUBLISH
X-ORIGINAL-URL:https://explorenarrabriregion.com.au
X-WR-CALDESC:Events for Explore Narrabri Region
REFRESH-INTERVAL;VALUE=DURATION:PT1H
X-Robots-Tag:noindex
X-PUBLISHED-TTL:PT1H
BEGIN:VTIMEZONE
TZID:Australia/Sydney
BEGIN:STANDARD
TZOFFSETFROM:+1100
TZOFFSETTO:+1000
TZNAME:AEST
DTSTART:20250405T160000
END:STANDARD
BEGIN:DAYLIGHT
TZOFFSETFROM:+1000
TZOFFSETTO:+1100
TZNAME:AEDT
DTSTART:20251004T160000
END:DAYLIGHT
BEGIN:STANDARD
TZOFFSETFROM:+1100
TZOFFSETTO:+1000
TZNAME:AEST
DTSTART:20260404T160000
END:STANDARD
BEGIN:DAYLIGHT
TZOFFSETFROM:+1000
TZOFFSETTO:+1100
TZNAME:AEDT
DTSTART:20261003T160000
END:DAYLIGHT
BEGIN:STANDARD
TZOFFSETFROM:+1100
TZOFFSETTO:+1000
TZNAME:AEST
DTSTART:20270403T160000
END:STANDARD
BEGIN:DAYLIGHT
TZOFFSETFROM:+1000
TZOFFSETTO:+1100
TZNAME:AEDT
DTSTART:20271002T160000
END:DAYLIGHT
END:VTIMEZONE
BEGIN:VEVENT
DTSTART;TZID=Australia/Sydney:20260320T180000
DTEND;TZID=Australia/Sydney:20260320T200000
DTSTAMP:20260423T184655
CREATED:20260303T005759Z
LAST-MODIFIED:20260303T005759Z
UID:10010012-1774029600-1774036800@explorenarrabriregion.com.au
SUMMARY:An Evening with Peter Greste
DESCRIPTION:Join the Country Education Foundation (CEF) for an evening with Peter Greste – Professor\, Journalist\, Foreign Correspondent and Author. \nAttendees will be delighted to hear music by the talented Pianist\, Hayley Yandell-Smith through a selection of canapés along with a fundraiser for local students. \nThis is an evening not to be missed. \nTickets include a drink on arrival and canapés. 
URL:https://explorenarrabriregion.com.au/event/an-evening-with-peter-greste/
LOCATION:The Crossing Theatre\, 117 Tibbereena Street\, Narrabri\, NSW\, 2390\, Australia
CATEGORIES:Arts & Culture
ATTACH;FMTTYPE=image/jpeg:https://explorenarrabriregion.com.au/wp-content/uploads/2026/03/an-evening-with-Peter-Greste.jpg
ORGANIZER;CN="Country Education Foundation":MAILTO:cefnamoi@gmail.com
GEO:-30.323705;149.780696
X-APPLE-STRUCTURED-LOCATION;VALUE=URI;X-ADDRESS=The Crossing Theatre 117 Tibbereena Street Narrabri NSW 2390 Australia;X-APPLE-RADIUS=500;X-TITLE=117 Tibbereena Street:geo:149.780696,-30.323705
END:VEVENT
END:VCALENDAR